BEGIN:VCALENDAR
VERSION:2.0
PRODID:-//Montgomery County Soil &amp; Water Conservation District - ECPv6.15.20//NONSGML v1.0//EN
CALSCALE:GREGORIAN
METHOD:PUBLISH
X-ORIGINAL-URL:https://montgomerycoswcd.com
X-WR-CALDESC:Events for Montgomery County Soil &amp; Water Conservation District
REFRESH-INTERVAL;VALUE=DURATION:PT1H
X-Robots-Tag:noindex
X-PUBLISHED-TTL:PT1H
BEGIN:VTIMEZONE
TZID:America/Indiana/Indianapolis
BEGIN:DAYLIGHT
TZOFFSETFROM:-0500
TZOFFSETTO:-0400
TZNAME:EDT
DTSTART:20190310T070000
END:DAYLIGHT
BEGIN:STANDARD
TZOFFSETFROM:-0400
TZOFFSETTO:-0500
TZNAME:EST
DTSTART:20191103T060000
END:STANDARD
BEGIN:DAYLIGHT
TZOFFSETFROM:-0500
TZOFFSETTO:-0400
TZNAME:EDT
DTSTART:20200308T070000
END:DAYLIGHT
BEGIN:STANDARD
TZOFFSETFROM:-0400
TZOFFSETTO:-0500
TZNAME:EST
DTSTART:20201101T060000
END:STANDARD
BEGIN:DAYLIGHT
TZOFFSETFROM:-0500
TZOFFSETTO:-0400
TZNAME:EDT
DTSTART:20210314T070000
END:DAYLIGHT
BEGIN:STANDARD
TZOFFSETFROM:-0400
TZOFFSETTO:-0500
TZNAME:EST
DTSTART:20211107T060000
END:STANDARD
BEGIN:DAYLIGHT
TZOFFSETFROM:-0500
TZOFFSETTO:-0400
TZNAME:EDT
DTSTART:20220313T070000
END:DAYLIGHT
BEGIN:STANDARD
TZOFFSETFROM:-0400
TZOFFSETTO:-0500
TZNAME:EST
DTSTART:20221106T060000
END:STANDARD
END:VTIMEZONE
BEGIN:VEVENT
DTSTART;TZID=America/Indiana/Indianapolis:20210118T000000
DTEND;TZID=America/Indiana/Indianapolis:20210118T235959
DTSTAMP:20260424T124304
CREATED:20201116T211750Z
LAST-MODIFIED:20201116T212153Z
UID:6052-1610928000-1611014399@montgomerycoswcd.com
SUMMARY:Martin Luther King Day- Office Closed
DESCRIPTION:Share this:\n				Email a link to a friend (Opens in new window)\n				Email\n			\n				Print (Opens in new window)\n				Print\n			\n				Share on Facebook (Opens in new window)\n				Facebook\n			\n				Share on X (Opens in new window)\n				X
URL:https://montgomerycoswcd.com/events/martin-luther-king-day-office-closed/
CATEGORIES:Office Closure
END:VEVENT
BEGIN:VEVENT
DTSTART;TZID=America/Indiana/Indianapolis:20210101T000000
DTEND;TZID=America/Indiana/Indianapolis:20210101T235959
DTSTAMP:20260424T124304
CREATED:20201116T211626Z
LAST-MODIFIED:20201116T212226Z
UID:6050-1609459200-1609545599@montgomerycoswcd.com
SUMMARY:New Year's Day- Office Closed
DESCRIPTION:Share this:\n				Email a link to a friend (Opens in new window)\n				Email\n			\n				Print (Opens in new window)\n				Print\n			\n				Share on Facebook (Opens in new window)\n				Facebook\n			\n				Share on X (Opens in new window)\n				X
URL:https://montgomerycoswcd.com/events/new-years-day-office-closed/
CATEGORIES:Office Closure
END:VEVENT
BEGIN:VEVENT
DTSTART;TZID=America/Indiana/Indianapolis:20201224T000000
DTEND;TZID=America/Indiana/Indianapolis:20201225T235959
DTSTAMP:20260424T124304
CREATED:20201116T204703Z
LAST-MODIFIED:20201116T211521Z
UID:6042-1608768000-1608940799@montgomerycoswcd.com
SUMMARY:Christmas Holiday- Office Closed
DESCRIPTION:Share this:\n				Email a link to a friend (Opens in new window)\n				Email\n			\n				Print (Opens in new window)\n				Print\n			\n				Share on Facebook (Opens in new window)\n				Facebook\n			\n				Share on X (Opens in new window)\n				X
URL:https://montgomerycoswcd.com/events/christmas-holiday-office-closed/
CATEGORIES:Office Closure
END:VEVENT
BEGIN:VEVENT
DTSTART;VALUE=DATE:20201126
DTEND;VALUE=DATE:20201128
DTSTAMP:20260424T124304
CREATED:20201116T202143Z
LAST-MODIFIED:20201116T204856Z
UID:6032-1606348800-1606521599@montgomerycoswcd.com
SUMMARY:Thanksgiving Holiday- Office Closed
DESCRIPTION:Share this:\n				Email a link to a friend (Opens in new window)\n				Email\n			\n				Print (Opens in new window)\n				Print\n			\n				Share on Facebook (Opens in new window)\n				Facebook\n			\n				Share on X (Opens in new window)\n				X
URL:https://montgomerycoswcd.com/events/thanksgiving-holiday-office-closed/
CATEGORIES:Office Closure
END:VEVENT
END:VCALENDAR