BEGIN:VCALENDAR
VERSION:2.0
PRODID:-//Montgomery County Soil &amp; Water Conservation District - ECPv6.15.20//NONSGML v1.0//EN
CALSCALE:GREGORIAN
METHOD:PUBLISH
X-ORIGINAL-URL:https://montgomerycoswcd.com
X-WR-CALDESC:Events for Montgomery County Soil &amp; Water Conservation District
REFRESH-INTERVAL;VALUE=DURATION:PT1H
X-Robots-Tag:noindex
X-PUBLISHED-TTL:PT1H
BEGIN:VTIMEZONE
TZID:America/Indiana/Indianapolis
BEGIN:DAYLIGHT
TZOFFSETFROM:-0500
TZOFFSETTO:-0400
TZNAME:EDT
DTSTART:20250309T070000
END:DAYLIGHT
BEGIN:STANDARD
TZOFFSETFROM:-0400
TZOFFSETTO:-0500
TZNAME:EST
DTSTART:20251102T060000
END:STANDARD
BEGIN:DAYLIGHT
TZOFFSETFROM:-0500
TZOFFSETTO:-0400
TZNAME:EDT
DTSTART:20260308T070000
END:DAYLIGHT
BEGIN:STANDARD
TZOFFSETFROM:-0400
TZOFFSETTO:-0500
TZNAME:EST
DTSTART:20261101T060000
END:STANDARD
BEGIN:DAYLIGHT
TZOFFSETFROM:-0500
TZOFFSETTO:-0400
TZNAME:EDT
DTSTART:20270314T070000
END:DAYLIGHT
BEGIN:STANDARD
TZOFFSETFROM:-0400
TZOFFSETTO:-0500
TZNAME:EST
DTSTART:20271107T060000
END:STANDARD
END:VTIMEZONE
BEGIN:VEVENT
DTSTART;TZID=America/Indiana/Indianapolis:20260305T080000
DTEND;TZID=America/Indiana/Indianapolis:20260305T100000
DTSTAMP:20260423T183207
CREATED:20260105T182451Z
LAST-MODIFIED:20260105T182454Z
UID:11328-1772697600-1772704800@montgomerycoswcd.com
SUMMARY:SWCD Board Meeting
DESCRIPTION:SWCD staff and supervisors will meet in the USDA Conference Room at 8:00 AM for our monthly board meeting. This meeting is open to the public! \n\n\n\n\n\n\n\n\n\n\nShare this:\n				Email a link to a friend (Opens in new window)\n				Email\n			\n				Print (Opens in new window)\n				Print\n			\n				Share on Facebook (Opens in new window)\n				Facebook\n			\n				Share on X (Opens in new window)\n				X
URL:https://montgomerycoswcd.com/events/swcd-board-meeting-21/
LOCATION:USDA Service Center\, 2036 Lebanon Road\, Crawfordsville\, Indiana\, 47933
END:VEVENT
BEGIN:VEVENT
DTSTART;TZID=America/Indiana/Indianapolis:20260317T100000
DTEND;TZID=America/Indiana/Indianapolis:20260317T130000
DTSTAMP:20260423T183207
CREATED:20260310T125547Z
LAST-MODIFIED:20260310T125550Z
UID:11450-1773741600-1773752400@montgomerycoswcd.com
SUMMARY:Table Talk Tuesday
DESCRIPTION:Share this:\n				Email a link to a friend (Opens in new window)\n				Email\n			\n				Print (Opens in new window)\n				Print\n			\n				Share on Facebook (Opens in new window)\n				Facebook\n			\n				Share on X (Opens in new window)\n				X
URL:https://montgomerycoswcd.com/events/table-talk-tuesday-7/
LOCATION:Indiana
END:VEVENT
BEGIN:VEVENT
DTSTART;TZID=America/Indiana/Indianapolis:20260325T160000
DTEND;TZID=America/Indiana/Indianapolis:20260325T170000
DTSTAMP:20260423T183207
CREATED:20260129T154953Z
LAST-MODIFIED:20260129T154958Z
UID:11385-1774454400-1774458000@montgomerycoswcd.com
SUMMARY:CISMA Q1 Meeting
DESCRIPTION:Share this:\n				Email a link to a friend (Opens in new window)\n				Email\n			\n				Print (Opens in new window)\n				Print\n			\n				Share on Facebook (Opens in new window)\n				Facebook\n			\n				Share on X (Opens in new window)\n				X
URL:https://montgomerycoswcd.com/events/cisma-q1-meeting/
LOCATION:Indiana
END:VEVENT
BEGIN:VEVENT
DTSTART;TZID=America/Indiana/Indianapolis:20260330T170000
DTEND;TZID=America/Indiana/Indianapolis:20260330T190000
DTSTAMP:20260423T183207
CREATED:20260310T130527Z
LAST-MODIFIED:20260313T201213Z
UID:11452-1774890000-1774897200@montgomerycoswcd.com
SUMMARY:Symphony of the Soil
DESCRIPTION:Join the Montgomery County SWCD and Community Growers of Montgomery County for an evening screening of the documentary “Symphony of the Soil”. The screening will begin at 5:15 PM. Popcorn and sodas will be provided. \n\n\n\nMeet us at the Crawfordsville District Public Library\, Meeting Room A! \n\n\n\nThis is a free public screening. All ages welcome. \n\n\n\n\nLearn more about the film here!\n\n\n\n\n\nShare this:\n				Email a link to a friend (Opens in new window)\n				Email\n			\n				Print (Opens in new window)\n				Print\n			\n				Share on Facebook (Opens in new window)\n				Facebook\n			\n				Share on X (Opens in new window)\n				X
URL:https://montgomerycoswcd.com/events/symphony-of-the-soil/
LOCATION:Crawfordsville District Public Library\, 205 S Washington St\, Crawfordsville\, Indiana\, 47933
END:VEVENT
BEGIN:VEVENT
DTSTART;TZID=America/Indiana/Indianapolis:20260402T080000
DTEND;TZID=America/Indiana/Indianapolis:20260402T100000
DTSTAMP:20260423T183207
CREATED:20260105T182533Z
LAST-MODIFIED:20260105T182537Z
UID:11330-1775116800-1775124000@montgomerycoswcd.com
SUMMARY:SWCD Board Meeting
DESCRIPTION:SWCD staff and supervisors will meet in the USDA Conference Room at 8:00 AM for our monthly board meeting. This meeting is open to the public! \n\n\n\n\n\n\n\n\n\n\nShare this:\n				Email a link to a friend (Opens in new window)\n				Email\n			\n				Print (Opens in new window)\n				Print\n			\n				Share on Facebook (Opens in new window)\n				Facebook\n			\n				Share on X (Opens in new window)\n				X
URL:https://montgomerycoswcd.com/events/swcd-board-meeting-22/
LOCATION:USDA Service Center\, 2036 Lebanon Road\, Crawfordsville\, Indiana\, 47933
END:VEVENT
BEGIN:VEVENT
DTSTART;TZID=America/Indiana/Indianapolis:20260403T080000
DTEND;TZID=America/Indiana/Indianapolis:20260403T170000
DTSTAMP:20260423T183207
CREATED:20260105T181115Z
LAST-MODIFIED:20260105T181120Z
UID:11304-1775203200-1775235600@montgomerycoswcd.com
SUMMARY:Office Closed
DESCRIPTION:The USDA Service Center will be closed on April 3\, 2026 for Good Friday. We will reopen on April\, 6\, 2026. \n\n\n\n\n\n\n\n\n\n\nShare this:\n				Email a link to a friend (Opens in new window)\n				Email\n			\n				Print (Opens in new window)\n				Print\n			\n				Share on Facebook (Opens in new window)\n				Facebook\n			\n				Share on X (Opens in new window)\n				X
URL:https://montgomerycoswcd.com/events/office-closed-46/
LOCATION:Indiana
END:VEVENT
BEGIN:VEVENT
DTSTART;TZID=America/Indiana/Indianapolis:20260422T113000
DTEND;TZID=America/Indiana/Indianapolis:20260422T130000
DTSTAMP:20260423T183207
CREATED:20260129T154612Z
LAST-MODIFIED:20260129T154615Z
UID:11376-1776857400-1776862800@montgomerycoswcd.com
SUMMARY:CGMC Q2 Meeting
DESCRIPTION:Share this:\n				Email a link to a friend (Opens in new window)\n				Email\n			\n				Print (Opens in new window)\n				Print\n			\n				Share on Facebook (Opens in new window)\n				Facebook\n			\n				Share on X (Opens in new window)\n				X
URL:https://montgomerycoswcd.com/events/cgmc-q2-meeting/
LOCATION:Indiana
END:VEVENT
BEGIN:VEVENT
DTSTART;TZID=America/Indiana/Indianapolis:20260505T080000
DTEND;TZID=America/Indiana/Indianapolis:20260505T170000
DTSTAMP:20260423T183207
CREATED:20260105T181215Z
LAST-MODIFIED:20260105T181218Z
UID:11306-1777968000-1778000400@montgomerycoswcd.com
SUMMARY:Office Closed
DESCRIPTION:The USDA Service Center will be closed on May 5\, 2026 for Primary Election Day. We will reopen on May 6\, 2026. \n\n\n\n\n\n\n\n\n\n\nShare this:\n				Email a link to a friend (Opens in new window)\n				Email\n			\n				Print (Opens in new window)\n				Print\n			\n				Share on Facebook (Opens in new window)\n				Facebook\n			\n				Share on X (Opens in new window)\n				X
URL:https://montgomerycoswcd.com/events/office-closed-47/
LOCATION:Indiana
END:VEVENT
BEGIN:VEVENT
DTSTART;TZID=America/Indiana/Indianapolis:20260507T080000
DTEND;TZID=America/Indiana/Indianapolis:20260507T100000
DTSTAMP:20260423T183207
CREATED:20260105T182620Z
LAST-MODIFIED:20260105T182622Z
UID:11332-1778140800-1778148000@montgomerycoswcd.com
SUMMARY:SWCD Board Meeting
DESCRIPTION:SWCD staff and supervisors will meet in the USDA Conference Room at 8:00 AM for our monthly board meeting. This meeting is open to the public! \n\n\n\n\n\n\n\n\n\n\nShare this:\n				Email a link to a friend (Opens in new window)\n				Email\n			\n				Print (Opens in new window)\n				Print\n			\n				Share on Facebook (Opens in new window)\n				Facebook\n			\n				Share on X (Opens in new window)\n				X
URL:https://montgomerycoswcd.com/events/swcd-board-meeting-23/
LOCATION:USDA Service Center\, 2036 Lebanon Road\, Crawfordsville\, Indiana\, 47933
END:VEVENT
BEGIN:VEVENT
DTSTART;TZID=America/Indiana/Indianapolis:20260513T160000
DTEND;TZID=America/Indiana/Indianapolis:20260513T170000
DTSTAMP:20260423T183207
CREATED:20260129T155054Z
LAST-MODIFIED:20260129T155059Z
UID:11388-1778688000-1778691600@montgomerycoswcd.com
SUMMARY:CISMA Q2 Meeting
DESCRIPTION:Share this:\n				Email a link to a friend (Opens in new window)\n				Email\n			\n				Print (Opens in new window)\n				Print\n			\n				Share on Facebook (Opens in new window)\n				Facebook\n			\n				Share on X (Opens in new window)\n				X
URL:https://montgomerycoswcd.com/events/cisma-q2-meeting/
LOCATION:Indiana
END:VEVENT
BEGIN:VEVENT
DTSTART;TZID=America/Indiana/Indianapolis:20260519T090000
DTEND;TZID=America/Indiana/Indianapolis:20260519T150000
DTSTAMP:20260423T183207
CREATED:20260415T135431Z
LAST-MODIFIED:20260415T135434Z
UID:11497-1779181200-1779202800@montgomerycoswcd.com
SUMMARY:Women4theLand Learning Circle
DESCRIPTION:Share this:\n				Email a link to a friend (Opens in new window)\n				Email\n			\n				Print (Opens in new window)\n				Print\n			\n				Share on Facebook (Opens in new window)\n				Facebook\n			\n				Share on X (Opens in new window)\n				X
URL:https://montgomerycoswcd.com/events/women4theland-learning-circle/
LOCATION:HHSB Success Center\, 1623 US-231\, Crawfordsville\, Indiana\, 47933\, United States
END:VEVENT
BEGIN:VEVENT
DTSTART;TZID=America/Indiana/Indianapolis:20260525T080000
DTEND;TZID=America/Indiana/Indianapolis:20260525T170000
DTSTAMP:20260423T183207
CREATED:20260105T181310Z
LAST-MODIFIED:20260105T181313Z
UID:11308-1779696000-1779728400@montgomerycoswcd.com
SUMMARY:Office Closed
DESCRIPTION:The USDA Service Center will be closed on May 25\, 2026 for Memorial Day. We will reopen on May 26\, 2026. \n\n\n\n\n\n\n\n\n\n\nShare this:\n				Email a link to a friend (Opens in new window)\n				Email\n			\n				Print (Opens in new window)\n				Print\n			\n				Share on Facebook (Opens in new window)\n				Facebook\n			\n				Share on X (Opens in new window)\n				X
URL:https://montgomerycoswcd.com/events/office-closed-48/
LOCATION:Indiana
END:VEVENT
BEGIN:VEVENT
DTSTART;TZID=America/Indiana/Indianapolis:20260604T080000
DTEND;TZID=America/Indiana/Indianapolis:20260604T100000
DTSTAMP:20260423T183207
CREATED:20260105T182701Z
LAST-MODIFIED:20260105T182706Z
UID:11334-1780560000-1780567200@montgomerycoswcd.com
SUMMARY:SWCD Board Meeting
DESCRIPTION:SWCD staff and supervisors will meet in the USDA Conference Room at 8:00 AM for our monthly board meeting. This meeting is open to the public! \n\n\n\n\n\n\n\n\n\n\nShare this:\n				Email a link to a friend (Opens in new window)\n				Email\n			\n				Print (Opens in new window)\n				Print\n			\n				Share on Facebook (Opens in new window)\n				Facebook\n			\n				Share on X (Opens in new window)\n				X
URL:https://montgomerycoswcd.com/events/swcd-board-meeting-24/
LOCATION:USDA Service Center\, 2036 Lebanon Road\, Crawfordsville\, Indiana\, 47933
END:VEVENT
BEGIN:VEVENT
DTSTART;TZID=America/Indiana/Indianapolis:20260619T080000
DTEND;TZID=America/Indiana/Indianapolis:20260619T170000
DTSTAMP:20260423T183207
CREATED:20260105T181427Z
LAST-MODIFIED:20260105T181432Z
UID:11310-1781856000-1781888400@montgomerycoswcd.com
SUMMARY:Office Closed
DESCRIPTION:The USDA Service Center will be closed on June 19\, 2026 for Juneteenth. We will reopen on June 22\, 2026. \n\n\n\n\n\n\n\n\n\n\nShare this:\n				Email a link to a friend (Opens in new window)\n				Email\n			\n				Print (Opens in new window)\n				Print\n			\n				Share on Facebook (Opens in new window)\n				Facebook\n			\n				Share on X (Opens in new window)\n				X
URL:https://montgomerycoswcd.com/events/office-closed-49/
LOCATION:Indiana
END:VEVENT
BEGIN:VEVENT
DTSTART;TZID=America/Indiana/Indianapolis:20260702T080000
DTEND;TZID=America/Indiana/Indianapolis:20260702T100000
DTSTAMP:20260423T183207
CREATED:20260105T182743Z
LAST-MODIFIED:20260105T182746Z
UID:11336-1782979200-1782986400@montgomerycoswcd.com
SUMMARY:SWCD Board Meeting
DESCRIPTION:SWCD staff and supervisors will meet in the USDA Conference Room at 8:00 AM for our monthly board meeting. This meeting is open to the public! \n\n\n\n\n\n\n\n\n\n\nShare this:\n				Email a link to a friend (Opens in new window)\n				Email\n			\n				Print (Opens in new window)\n				Print\n			\n				Share on Facebook (Opens in new window)\n				Facebook\n			\n				Share on X (Opens in new window)\n				X
URL:https://montgomerycoswcd.com/events/swcd-board-meeting-25/
LOCATION:USDA Service Center\, 2036 Lebanon Road\, Crawfordsville\, Indiana\, 47933
END:VEVENT
BEGIN:VEVENT
DTSTART;TZID=America/Indiana/Indianapolis:20260703T080000
DTEND;TZID=America/Indiana/Indianapolis:20260703T170000
DTSTAMP:20260423T183207
CREATED:20260105T181520Z
LAST-MODIFIED:20260105T181523Z
UID:11312-1783065600-1783098000@montgomerycoswcd.com
SUMMARY:Office Closed
DESCRIPTION:The USDA Service Center will be closed on July 3\, 2026 for Independence Day. We will reopen on July 6\, 2026. \n\n\n\n\n\n\n\n\n\n\nShare this:\n				Email a link to a friend (Opens in new window)\n				Email\n			\n				Print (Opens in new window)\n				Print\n			\n				Share on Facebook (Opens in new window)\n				Facebook\n			\n				Share on X (Opens in new window)\n				X
URL:https://montgomerycoswcd.com/events/office-closed-50/
LOCATION:Indiana
END:VEVENT
BEGIN:VEVENT
DTSTART;TZID=America/Indiana/Indianapolis:20260715T113000
DTEND;TZID=America/Indiana/Indianapolis:20260715T130000
DTSTAMP:20260423T183207
CREATED:20260129T154732Z
LAST-MODIFIED:20260129T154736Z
UID:11379-1784115000-1784120400@montgomerycoswcd.com
SUMMARY:CGMC Q3 Meeting
DESCRIPTION:Share this:\n				Email a link to a friend (Opens in new window)\n				Email\n			\n				Print (Opens in new window)\n				Print\n			\n				Share on Facebook (Opens in new window)\n				Facebook\n			\n				Share on X (Opens in new window)\n				X
URL:https://montgomerycoswcd.com/events/cgmc-q3-meeting/
LOCATION:Indiana
END:VEVENT
BEGIN:VEVENT
DTSTART;TZID=America/Indiana/Indianapolis:20260806T080000
DTEND;TZID=America/Indiana/Indianapolis:20260806T100000
DTSTAMP:20260423T183207
CREATED:20260105T182818Z
LAST-MODIFIED:20260105T182822Z
UID:11338-1786003200-1786010400@montgomerycoswcd.com
SUMMARY:SWCD Board Meeting
DESCRIPTION:SWCD staff and supervisors will meet in the USDA Conference Room at 8:00 AM for our monthly board meeting. This meeting is open to the public! \n\n\n\n\n\n\n\n\n\n\nShare this:\n				Email a link to a friend (Opens in new window)\n				Email\n			\n				Print (Opens in new window)\n				Print\n			\n				Share on Facebook (Opens in new window)\n				Facebook\n			\n				Share on X (Opens in new window)\n				X
URL:https://montgomerycoswcd.com/events/swcd-board-meeting-26/
LOCATION:USDA Service Center\, 2036 Lebanon Road\, Crawfordsville\, Indiana\, 47933
END:VEVENT
BEGIN:VEVENT
DTSTART;TZID=America/Indiana/Indianapolis:20260812T160000
DTEND;TZID=America/Indiana/Indianapolis:20260812T170000
DTSTAMP:20260423T183207
CREATED:20260129T155151Z
LAST-MODIFIED:20260129T155154Z
UID:11391-1786550400-1786554000@montgomerycoswcd.com
SUMMARY:CISMA Q3 Meeting
DESCRIPTION:Share this:\n				Email a link to a friend (Opens in new window)\n				Email\n			\n				Print (Opens in new window)\n				Print\n			\n				Share on Facebook (Opens in new window)\n				Facebook\n			\n				Share on X (Opens in new window)\n				X
URL:https://montgomerycoswcd.com/events/cisma-q3-meeting/
LOCATION:Indiana
END:VEVENT
BEGIN:VEVENT
DTSTART;TZID=America/Indiana/Indianapolis:20260903T080000
DTEND;TZID=America/Indiana/Indianapolis:20260903T100000
DTSTAMP:20260423T183207
CREATED:20260105T183358Z
LAST-MODIFIED:20260105T183402Z
UID:11348-1788422400-1788429600@montgomerycoswcd.com
SUMMARY:SWCD Board Meeting
DESCRIPTION:SWCD staff and supervisors will meet in the USDA Conference Room at 8:00 AM for our monthly board meeting. This meeting is open to the public! \n\n\n\n\n\n\n\n\n\n\nShare this:\n				Email a link to a friend (Opens in new window)\n				Email\n			\n				Print (Opens in new window)\n				Print\n			\n				Share on Facebook (Opens in new window)\n				Facebook\n			\n				Share on X (Opens in new window)\n				X
URL:https://montgomerycoswcd.com/events/swcd-board-meeting-27/
LOCATION:USDA Service Center\, 2036 Lebanon Road\, Crawfordsville\, Indiana\, 47933
END:VEVENT
BEGIN:VEVENT
DTSTART;TZID=America/Indiana/Indianapolis:20260907T080000
DTEND;TZID=America/Indiana/Indianapolis:20260907T170000
DTSTAMP:20260423T183207
CREATED:20260105T181618Z
LAST-MODIFIED:20260105T181623Z
UID:11314-1788768000-1788800400@montgomerycoswcd.com
SUMMARY:Office Closed
DESCRIPTION:The USDA Service Center will be closed on September 7\, 2026 for Labor Day. We will reopen on September 8\, 2026. \n\n\n\n\n\n\n\n\n\n\nShare this:\n				Email a link to a friend (Opens in new window)\n				Email\n			\n				Print (Opens in new window)\n				Print\n			\n				Share on Facebook (Opens in new window)\n				Facebook\n			\n				Share on X (Opens in new window)\n				X
URL:https://montgomerycoswcd.com/events/office-closed-51/
LOCATION:Indiana
END:VEVENT
BEGIN:VEVENT
DTSTART;TZID=America/Indiana/Indianapolis:20261001T080000
DTEND;TZID=America/Indiana/Indianapolis:20261001T100000
DTSTAMP:20260423T183207
CREATED:20260105T183449Z
LAST-MODIFIED:20260105T183452Z
UID:11350-1790841600-1790848800@montgomerycoswcd.com
SUMMARY:SWCD Board Meeting
DESCRIPTION:SWCD staff and supervisors will meet in the USDA Conference Room at 8:00 AM for our monthly board meeting. This meeting is open to the public! \n\n\n\n\n\n\n\n\n\n\nShare this:\n				Email a link to a friend (Opens in new window)\n				Email\n			\n				Print (Opens in new window)\n				Print\n			\n				Share on Facebook (Opens in new window)\n				Facebook\n			\n				Share on X (Opens in new window)\n				X
URL:https://montgomerycoswcd.com/events/swcd-board-meeting-30/
LOCATION:USDA Service Center\, 2036 Lebanon Road\, Crawfordsville\, Indiana\, 47933
END:VEVENT
BEGIN:VEVENT
DTSTART;TZID=America/Indiana/Indianapolis:20261013T113000
DTEND;TZID=America/Indiana/Indianapolis:20261013T130000
DTSTAMP:20260423T183207
CREATED:20260129T154839Z
LAST-MODIFIED:20260129T154844Z
UID:11382-1791891000-1791896400@montgomerycoswcd.com
SUMMARY:CGMC Q4 Meeting
DESCRIPTION:Share this:\n				Email a link to a friend (Opens in new window)\n				Email\n			\n				Print (Opens in new window)\n				Print\n			\n				Share on Facebook (Opens in new window)\n				Facebook\n			\n				Share on X (Opens in new window)\n				X
URL:https://montgomerycoswcd.com/events/cgmc-q4-meeting/
LOCATION:Indiana
END:VEVENT
BEGIN:VEVENT
DTSTART;TZID=America/Indiana/Indianapolis:20261103T080000
DTEND;TZID=America/Indiana/Indianapolis:20261103T170000
DTSTAMP:20260423T183207
CREATED:20260105T181717Z
LAST-MODIFIED:20260105T181722Z
UID:11316-1793692800-1793725200@montgomerycoswcd.com
SUMMARY:Office Closed
DESCRIPTION:The USDA Service Center will be closed on November 3\, 2026 for Election Day. We will reopen on November 4\, 2026. \n\n\n\n\n\n\n\n\n\n\nShare this:\n				Email a link to a friend (Opens in new window)\n				Email\n			\n				Print (Opens in new window)\n				Print\n			\n				Share on Facebook (Opens in new window)\n				Facebook\n			\n				Share on X (Opens in new window)\n				X
URL:https://montgomerycoswcd.com/events/office-closed-52/
LOCATION:Indiana
END:VEVENT
BEGIN:VEVENT
DTSTART;TZID=America/Indiana/Indianapolis:20261104T160000
DTEND;TZID=America/Indiana/Indianapolis:20261104T170000
DTSTAMP:20260423T183207
CREATED:20260129T155253Z
LAST-MODIFIED:20260129T155258Z
UID:11394-1793808000-1793811600@montgomerycoswcd.com
SUMMARY:CISMA Q4 Meeting
DESCRIPTION:Share this:\n				Email a link to a friend (Opens in new window)\n				Email\n			\n				Print (Opens in new window)\n				Print\n			\n				Share on Facebook (Opens in new window)\n				Facebook\n			\n				Share on X (Opens in new window)\n				X
URL:https://montgomerycoswcd.com/events/cisma-q4-meeting/
LOCATION:Indiana
END:VEVENT
BEGIN:VEVENT
DTSTART;TZID=America/Indiana/Indianapolis:20261105T080000
DTEND;TZID=America/Indiana/Indianapolis:20261105T100000
DTSTAMP:20260423T183207
CREATED:20260105T183012Z
LAST-MODIFIED:20260105T183013Z
UID:11344-1793865600-1793872800@montgomerycoswcd.com
SUMMARY:SWCD Board Meeting
DESCRIPTION:SWCD staff and supervisors will meet in the USDA Conference Room at 8:00 AM for our monthly board meeting. This meeting is open to the public! \n\n\n\n\n\n\n\n\n\n\nShare this:\n				Email a link to a friend (Opens in new window)\n				Email\n			\n				Print (Opens in new window)\n				Print\n			\n				Share on Facebook (Opens in new window)\n				Facebook\n			\n				Share on X (Opens in new window)\n				X
URL:https://montgomerycoswcd.com/events/swcd-board-meeting-28/
LOCATION:USDA Service Center\, 2036 Lebanon Road\, Crawfordsville\, Indiana\, 47933
END:VEVENT
BEGIN:VEVENT
DTSTART;TZID=America/Indiana/Indianapolis:20261111T080000
DTEND;TZID=America/Indiana/Indianapolis:20261111T170000
DTSTAMP:20260423T183207
CREATED:20260105T181809Z
LAST-MODIFIED:20260105T181811Z
UID:11318-1794384000-1794416400@montgomerycoswcd.com
SUMMARY:Office Closed
DESCRIPTION:The USDA Service Center will be closed on November 11\, 2026 for Veteran’s Day. We will reopen on November 12\, 2026. \n\n\n\n\n\n\n\n\n\n\nShare this:\n				Email a link to a friend (Opens in new window)\n				Email\n			\n				Print (Opens in new window)\n				Print\n			\n				Share on Facebook (Opens in new window)\n				Facebook\n			\n				Share on X (Opens in new window)\n				X
URL:https://montgomerycoswcd.com/events/office-closed-53/
LOCATION:Indiana
END:VEVENT
BEGIN:VEVENT
DTSTART;TZID=America/Indiana/Indianapolis:20261126T080000
DTEND;TZID=America/Indiana/Indianapolis:20261127T170000
DTSTAMP:20260423T183207
CREATED:20260105T181938Z
LAST-MODIFIED:20260105T181943Z
UID:11320-1795680000-1795798800@montgomerycoswcd.com
SUMMARY:Office Closed
DESCRIPTION:The USDA Service Center will be closed on November 26 and 27\, 2026 for Thanksgiving. We will reopen on November 30\, 2026. \n\n\n\n\n\n\n\n\n\n\nShare this:\n				Email a link to a friend (Opens in new window)\n				Email\n			\n				Print (Opens in new window)\n				Print\n			\n				Share on Facebook (Opens in new window)\n				Facebook\n			\n				Share on X (Opens in new window)\n				X
URL:https://montgomerycoswcd.com/events/office-closed-54/
LOCATION:Indiana
END:VEVENT
BEGIN:VEVENT
DTSTART;TZID=America/Indiana/Indianapolis:20261203T080000
DTEND;TZID=America/Indiana/Indianapolis:20261203T100000
DTSTAMP:20260423T183207
CREATED:20260105T183052Z
LAST-MODIFIED:20260105T183055Z
UID:11346-1796284800-1796292000@montgomerycoswcd.com
SUMMARY:SWCD Board Meeting
DESCRIPTION:SWCD staff and supervisors will meet in the USDA Conference Room at 8:00 AM for our monthly board meeting. This meeting is open to the public! \n\n\n\n\n\n\n\n\n\n\nShare this:\n				Email a link to a friend (Opens in new window)\n				Email\n			\n				Print (Opens in new window)\n				Print\n			\n				Share on Facebook (Opens in new window)\n				Facebook\n			\n				Share on X (Opens in new window)\n				X
URL:https://montgomerycoswcd.com/events/swcd-board-meeting-29/
LOCATION:USDA Service Center\, 2036 Lebanon Road\, Crawfordsville\, Indiana\, 47933
END:VEVENT
BEGIN:VEVENT
DTSTART;TZID=America/Indiana/Indianapolis:20261224T080000
DTEND;TZID=America/Indiana/Indianapolis:20261225T170000
DTSTAMP:20260423T183207
CREATED:20260105T182047Z
LAST-MODIFIED:20260105T182051Z
UID:11322-1798099200-1798218000@montgomerycoswcd.com
SUMMARY:Office Closed
DESCRIPTION:The USDA Service Center will be closed on December 24 and 25\, 2026 for Christmas. We will reopen on December 28\, 2026. \n\n\n\n\n\n\n\n\n\n\nShare this:\n				Email a link to a friend (Opens in new window)\n				Email\n			\n				Print (Opens in new window)\n				Print\n			\n				Share on Facebook (Opens in new window)\n				Facebook\n			\n				Share on X (Opens in new window)\n				X
URL:https://montgomerycoswcd.com/events/office-closed-55/
LOCATION:Indiana
END:VEVENT
END:VCALENDAR