BEGIN:VCALENDAR
VERSION:2.0
PRODID:-//Montgomery County Soil &amp; Water Conservation District - ECPv6.15.20//NONSGML v1.0//EN
CALSCALE:GREGORIAN
METHOD:PUBLISH
X-ORIGINAL-URL:https://montgomerycoswcd.com
X-WR-CALDESC:Events for Montgomery County Soil &amp; Water Conservation District
REFRESH-INTERVAL;VALUE=DURATION:PT1H
X-Robots-Tag:noindex
X-PUBLISHED-TTL:PT1H
BEGIN:VTIMEZONE
TZID:America/Indiana/Indianapolis
BEGIN:DAYLIGHT
TZOFFSETFROM:-0500
TZOFFSETTO:-0400
TZNAME:EDT
DTSTART:20190310T070000
END:DAYLIGHT
BEGIN:STANDARD
TZOFFSETFROM:-0400
TZOFFSETTO:-0500
TZNAME:EST
DTSTART:20191103T060000
END:STANDARD
BEGIN:DAYLIGHT
TZOFFSETFROM:-0500
TZOFFSETTO:-0400
TZNAME:EDT
DTSTART:20200308T070000
END:DAYLIGHT
BEGIN:STANDARD
TZOFFSETFROM:-0400
TZOFFSETTO:-0500
TZNAME:EST
DTSTART:20201101T060000
END:STANDARD
BEGIN:DAYLIGHT
TZOFFSETFROM:-0500
TZOFFSETTO:-0400
TZNAME:EDT
DTSTART:20210314T070000
END:DAYLIGHT
BEGIN:STANDARD
TZOFFSETFROM:-0400
TZOFFSETTO:-0500
TZNAME:EST
DTSTART:20211107T060000
END:STANDARD
BEGIN:DAYLIGHT
TZOFFSETFROM:-0500
TZOFFSETTO:-0400
TZNAME:EDT
DTSTART:20220313T070000
END:DAYLIGHT
BEGIN:STANDARD
TZOFFSETFROM:-0400
TZOFFSETTO:-0500
TZNAME:EST
DTSTART:20221106T060000
END:STANDARD
BEGIN:DAYLIGHT
TZOFFSETFROM:-0500
TZOFFSETTO:-0400
TZNAME:EDT
DTSTART:20230312T070000
END:DAYLIGHT
BEGIN:STANDARD
TZOFFSETFROM:-0400
TZOFFSETTO:-0500
TZNAME:EST
DTSTART:20231105T060000
END:STANDARD
END:VTIMEZONE
BEGIN:VEVENT
DTSTART;TZID=America/Indiana/Indianapolis:20220709T080000
DTEND;TZID=America/Indiana/Indianapolis:20220709T130000
DTSTAMP:20260424T112340
CREATED:20220708T195146Z
LAST-MODIFIED:20220708T195151Z
UID:7910-1657353600-1657371600@montgomerycoswcd.com
SUMMARY:Tabling at the Farmer's Market
DESCRIPTION:The Community Growers of Montgomery County (CGMC) will have a booth at the Farmer’s Market. There is a fun (and edible!) activity for kids and information on some of the district’s programs and events. Hope to see you there! \n\n\n\n\n\n\n\n\n\n\nShare this:\n				Email a link to a friend (Opens in new window)\n				Email\n			\n				Print (Opens in new window)\n				Print\n			\n				Share on Facebook (Opens in new window)\n				Facebook\n			\n				Share on X (Opens in new window)\n				X
URL:https://montgomerycoswcd.com/events/tabling-at-the-farmers-market/
LOCATION:Pike Place\, CRAWFORDSVLLE\, Indiana\, 47933\, United States
ORGANIZER;CN="Community Growers of Montgomery County":MAILTO:msweeney@montgomerycoswcd.com
END:VEVENT
BEGIN:VEVENT
DTSTART;TZID=America/Indiana/Indianapolis:20220618T130000
DTEND;TZID=America/Indiana/Indianapolis:20220618T160000
DTSTAMP:20260424T112340
CREATED:20220408T200041Z
LAST-MODIFIED:20220408T200045Z
UID:7683-1655557200-1655568000@montgomerycoswcd.com
SUMMARY:Nature Day With CMMC & CDPL
DESCRIPTION:Montgomery County SWCD will be tabling at this event with some fun activities for kids along with resources. Come out and join us! \n\n\n\nEnjoy some free ice cream on the lawn of the Museum (provided by CDPL)\, before heading inside to check out some family-friendly crafts and activities! \n\n\n\n*Please note this events may be canceled and/or altered due to any COVID-19 community guidelines* \n\n\n\n\n\n\n\n\n\n\n\n\n\n\nShare this:\n				Email a link to a friend (Opens in new window)\n				Email\n			\n				Print (Opens in new window)\n				Print\n			\n				Share on Facebook (Opens in new window)\n				Facebook\n			\n				Share on X (Opens in new window)\n				X
URL:https://montgomerycoswcd.com/events/nature-day-with-cmmc-cdpl/
LOCATION:Carnegie Museum of Montgomery County\, 222 S. Washington St.\, Crawfordsville\, Indiana\, 47933
ORGANIZER;CN="Crawfordsville District Public Library":MAILTO:ask@cdpl.lib.in.us
END:VEVENT
BEGIN:VEVENT
DTSTART;TZID=America/Indiana/Indianapolis:20220604T180000
DTEND;TZID=America/Indiana/Indianapolis:20220604T200000
DTSTAMP:20260424T112340
CREATED:20220510T193816Z
LAST-MODIFIED:20220510T193820Z
UID:7806-1654365600-1654372800@montgomerycoswcd.com
SUMMARY:Farm Tour - Gillenwater Farms and Trinity Acres Farm
DESCRIPTION:Are you interested in learning more about where your food comes from? Or are you a customer at Four Seasons\, Hole’s Market\, or have a CSA from Trinity Acres Farm? This tour will begin at Gillenwater Farms where attendees will learn the techniques used to grow the vegetables and raise the pork and beef that end up on your plate. We will then travel to Trinity Acres Farm where you can learn about their organic practices\, Community Supported Agriculture (CSA) and more. Please RSVP at https://forms.gle/BcbkQHfjuG8yZf7T6  \n\n\n\n\n\n\n\n\n\n\n\n\n\n\nShare this:\n				Email a link to a friend (Opens in new window)\n				Email\n			\n				Print (Opens in new window)\n				Print\n			\n				Share on Facebook (Opens in new window)\n				Facebook\n			\n				Share on X (Opens in new window)\n				X
URL:https://montgomerycoswcd.com/events/farm-tour-gillenwater-farms-and-trinity-acres-farm/
LOCATION:Gillenwater Farms\, 5262 N 400 E\, Crawfordsville\, 47933
ORGANIZER;CN="Community Growers of Montgomery County":MAILTO:msweeney@montgomerycoswcd.com
END:VEVENT
BEGIN:VEVENT
DTSTART;TZID=America/Indiana/Indianapolis:20220602T080000
DTEND;TZID=America/Indiana/Indianapolis:20220602T100000
DTSTAMP:20260424T112340
CREATED:20220408T195218Z
LAST-MODIFIED:20220525T200834Z
UID:7678-1654156800-1654164000@montgomerycoswcd.com
SUMMARY:June Board Meeting
DESCRIPTION:Our board meetings are open to the public and generally occur on the first Thursday of each month at 8 AM in the FSA Conference Room at the USDA Service Center. Please enter directly through the FSA Conference room door rather than entering through the office. \n\n\n\n\n\n\n\n\n\n\n\n\n\n \nShare this:\n				Email a link to a friend (Opens in new window)\n				Email\n			\n				Print (Opens in new window)\n				Print\n			\n				Share on Facebook (Opens in new window)\n				Facebook\n			\n				Share on X (Opens in new window)\n				X
URL:https://montgomerycoswcd.com/events/june-board-meeting/
LOCATION:USDA Service Center\, 2036 Lebanon Road\, Crawfordsville\, Indiana\, 47933
END:VEVENT
BEGIN:VEVENT
DTSTART;TZID=America/Indiana/Indianapolis:20220520T160000
DTEND;TZID=America/Indiana/Indianapolis:20220520T190000
DTSTAMP:20260424T112340
CREATED:20220408T182513Z
LAST-MODIFIED:20220408T182517Z
UID:7626-1653062400-1653073200@montgomerycoswcd.com
SUMMARY:Native Plant Sale Pick-up
DESCRIPTION:As the plant sale is a pre-sale everyone will pick up their plants on May 20th rather than immediately after putting in the order. Plants can be picked up at the 4-H Fairgrounds in Montgomery County in the Beef barn. More information to come.  \n\n\n\n\n\n\n\n\n\n\n\n\n\n\nShare this:\n				Email a link to a friend (Opens in new window)\n				Email\n			\n				Print (Opens in new window)\n				Print\n			\n				Share on Facebook (Opens in new window)\n				Facebook\n			\n				Share on X (Opens in new window)\n				X
URL:https://montgomerycoswcd.com/events/native-plant-sale-pick-up/
LOCATION:Montgomery County 4-H Fairgrounds in the Beef Barn\, 400 Parke Ave\, Crawfordsville\, Indiana\, 47933\, United States
END:VEVENT
BEGIN:VEVENT
DTSTART;TZID=America/Indiana/Indianapolis:20220507T100000
DTEND;TZID=America/Indiana/Indianapolis:20220507T120000
DTSTAMP:20260424T112340
CREATED:20220408T192350Z
LAST-MODIFIED:20220504T143102Z
UID:7652-1651917600-1651924800@montgomerycoswcd.com
SUMMARY:Weed Wrangle at Shades State Park
DESCRIPTION:This event was postponed to May 7th due to rain. We will be meeting at Shades State Park to tackle some garlic mustard at the park so we can create better habitat for native plant species to thrive. We will be hand pulling the garlic mustard. Please bring your own work gloves and water bottle if you have them. Long pants are preferred to shorts as we will be working in a wooded area. This event is in partnership with Shades State Park.  \n\n\n\n\n\n\n\nWe will meet at the Hickory Shelter. This location does have flushing restrooms.  \n\n\n\n\n\n\n\n\n\n\n\n\n\n\n\n\n\nPicture of garlic mustard. \nShare this:\n				Email a link to a friend (Opens in new window)\n				Email\n			\n				Print (Opens in new window)\n				Print\n			\n				Share on Facebook (Opens in new window)\n				Facebook\n			\n				Share on X (Opens in new window)\n				X
URL:https://montgomerycoswcd.com/events/weed-wrangle-at-shades-state-park/
LOCATION:Shades State Park\, 7751 S. 890 W.\, Waveland\, 47989
END:VEVENT
BEGIN:VEVENT
DTSTART;TZID=America/Indiana/Indianapolis:20220505T081500
DTEND;TZID=America/Indiana/Indianapolis:20220505T100000
DTSTAMP:20260424T112340
CREATED:20220408T192842Z
LAST-MODIFIED:20220408T192846Z
UID:7664-1651738500-1651744800@montgomerycoswcd.com
SUMMARY:Board Meeting
DESCRIPTION:Our board meetings are open to the public and generally occur on the first Thursday of each month at 8:15 AM in the FSA Conference Room at the USDA Service Center. Please enter directly through the FSA Conference room door rather than entering through the office.   \n\n\n\n\n\n\n\n\n\n\n\n\n\n \nShare this:\n				Email a link to a friend (Opens in new window)\n				Email\n			\n				Print (Opens in new window)\n				Print\n			\n				Share on Facebook (Opens in new window)\n				Facebook\n			\n				Share on X (Opens in new window)\n				X
URL:https://montgomerycoswcd.com/events/board-meeting/
LOCATION:USDA Service Center\, 2036 Lebanon Road\, Crawfordsville\, Indiana\, 47933
END:VEVENT
BEGIN:VEVENT
DTSTART;TZID=America/Indiana/Indianapolis:20220503T080000
DTEND;TZID=America/Indiana/Indianapolis:20220503T170000
DTSTAMP:20260424T112340
CREATED:20220408T194502Z
LAST-MODIFIED:20220408T194506Z
UID:7668-1651564800-1651597200@montgomerycoswcd.com
SUMMARY:Office Closed- Primary Election Day
DESCRIPTION:The office will be closed on this day. We will be open again on Wednesday May 4th.  \n\n\n\n\n\n\n\n\n\n\nShare this:\n				Email a link to a friend (Opens in new window)\n				Email\n			\n				Print (Opens in new window)\n				Print\n			\n				Share on Facebook (Opens in new window)\n				Facebook\n			\n				Share on X (Opens in new window)\n				X
URL:https://montgomerycoswcd.com/events/office-closed-primary-election-day/
LOCATION:Montgomery County Soil and Water Conservation District\, 2036 Lebanon Road\, Crawfordsville\, Indiana\, 47933\, United States
END:VEVENT
BEGIN:VEVENT
DTSTART;TZID=America/Indiana/Indianapolis:20220426T140000
DTEND;TZID=America/Indiana/Indianapolis:20220426T150000
DTSTAMP:20260424T112340
CREATED:20220408T201357Z
LAST-MODIFIED:20220408T201400Z
UID:7698-1650981600-1650985200@montgomerycoswcd.com
SUMMARY:Upper Sugar Creek Watershed Project Steering Committee Meeting
DESCRIPTION:Grant partners get together to discuss the progress of this project. More information on this project can be found here: www.montgomerycoswcd.com/sugarcreek \n\n\n\nYou are welcome to join! Steering committee meetings are open to the public. Log on virtually here:  https://us06web.zoom.us/j/88369318308 \n\n\n\n\n\n\n\n\n\n\n\n\n\n\nShare this:\n				Email a link to a friend (Opens in new window)\n				Email\n			\n				Print (Opens in new window)\n				Print\n			\n				Share on Facebook (Opens in new window)\n				Facebook\n			\n				Share on X (Opens in new window)\n				X
URL:https://montgomerycoswcd.com/events/upper-sugar-creek-watershed-project-steering-committee-meeting/
LOCATION:Hoosier Heartland State Bank Success Center\, 1623 US-231\, Crawfordsville\, Indiana\, 47933
END:VEVENT
BEGIN:VEVENT
DTSTART;TZID=America/Indiana/Indianapolis:20220423T100000
DTEND;TZID=America/Indiana/Indianapolis:20220423T160000
DTSTAMP:20260424T112340
CREATED:20220408T190329Z
LAST-MODIFIED:20220408T190332Z
UID:7648-1650708000-1650729600@montgomerycoswcd.com
SUMMARY:War of the Weeds with SWCD and NICHES
DESCRIPTION:Every spring\, the invasive plant garlic mustard emerges across our preserves in large numbers. If left unchecked\, this weed can change soil chemistry\, overtake the forest’s understory\, and diminish the beautiful display of native ephemeral wildflowers. With your help\, the forest understory will be filled with a diverse mix of plants that provide food and shelter to abundant wildlife. \n\n\n\nWe are partnering with NICHES land trust to run the War of the Weeds shifts this year at Bachner. This is NICHES single biggest annual volunteer push; if they can manage to fill every volunteer shift it will provide over a thousand volunteer hours during a critically important stewardship window.  \n\n\n\nThere are two shifts available to work on this day: 10-1\, 1-4. Every Volunteer that Signs up for at least 2 shifts before the end of March will receive this years WOTW t-shirt (design below).  \n\n\n\nIf you are interested in checking out the other dates NICHES will be holding the War of the Weeds shift check out 2022 WOTW Garlic mustard pulling shift list: https://www.signupgenius.com/go/10c0c49a5ab28a1f8c43-2022 \n\n\n\nHow to Get There\n\n\n\nFrom Crawfordsville\, take 32 West Turning left on 325 W (Camp Rotary Rd.) in 1.5 miles Turn right on 250 S (Offield Monument Rd.) In 1.4 miles the parking lot will be on your right The parking lot is actually a Indiana DNR property\, Sugar Creek Access Point\, parking lot\, shared with NICHES Land Trust. (The parking lot entrance sign is for I.DNR. land and makes no mention of Bachner Nature Reserve.  Public visiting NICHES Bacher Reserve are welcome to park in the lot.) \n\n\n\n\n\n\n\n\n\n\n\n\n\n\nShare this:\n				Email a link to a friend (Opens in new window)\n				Email\n			\n				Print (Opens in new window)\n				Print\n			\n				Share on Facebook (Opens in new window)\n				Facebook\n			\n				Share on X (Opens in new window)\n				X
URL:https://montgomerycoswcd.com/events/war-of-the-weeds-with-swcd-and-niches/
LOCATION:Bachner Nature Preserve\, 39°59'53.9"N 86°59'23.4"W
ORGANIZER;CN="NICHES":MAILTO:niches@nicheslandtrust.org
END:VEVENT
BEGIN:VEVENT
DTSTART;TZID=America/Indiana/Indianapolis:20220422T080000
DTEND;TZID=America/Indiana/Indianapolis:20220501T170000
DTSTAMP:20260424T112340
CREATED:20220408T201017Z
LAST-MODIFIED:20220408T201021Z
UID:7696-1650614400-1651424400@montgomerycoswcd.com
SUMMARY:Spring Sugar Creek Clean-up
DESCRIPTION:Friends of Sugar Creek is hosting the Spring Creek Cleanup. The clean-up starts April 22nd and will conclude May 1st. You pick the time\, day\, and place to pick up litter and debris along Sugar Creek. Take your gloves\, trash bag(s)\, and family or friends to any location along the creek and conduct your own cleanup. Crawfordsville Park and Recreation is placing a trash trailer located at the Rock River Ridge Trail Head Park so that you can deposit the trash collected. Please take a picture with your trash and post it on the Friends of Sugar Creek Facebook page or email it to canoe@friendsofsugarcreek.org and they will send you and your group a t-shirt! There are several places you can go to clean up. Coke Plant Launch on Lafayette Rd\, Sugar Creek Nature Trail on 231 N\, the Elston Park Ball Diamonds\, Darlington Covered Bridge\, Rock River Trail Head\, Bachner Preserve on Offield Road\, or if you own property along the creek. Thank you and we encourage you to keep your safety in mind while spending time at the creek. Water levels can be unpredictable so be cautious at all times. \n\n\n\nIf you have any questions please email Cindy at canoe@friendsofsugarcreek.org \n\n\n\n\n\n\n\n\n\n\nShare this:\n				Email a link to a friend (Opens in new window)\n				Email\n			\n				Print (Opens in new window)\n				Print\n			\n				Share on Facebook (Opens in new window)\n				Facebook\n			\n				Share on X (Opens in new window)\n				X
URL:https://montgomerycoswcd.com/events/spring-sugar-creek-clean-up/
END:VEVENT
BEGIN:VEVENT
DTSTART;TZID=America/Indiana/Indianapolis:20220419T160000
DTEND;TZID=America/Indiana/Indianapolis:20220419T163000
DTSTAMP:20260424T112340
CREATED:20220408T183847Z
LAST-MODIFIED:20220408T183851Z
UID:7635-1650384000-1650385800@montgomerycoswcd.com
SUMMARY:Elementary Explorers with CDPL
DESCRIPTION:We are partnering with the Crawfordsville District Public Library to lead one of the elementary explorers weekly events. Our theme will be pollinators and will include at least one activity or craft to help teach kids the importance of pollinators in our foods systems. This program is aimed towards children aged K -5th grade.  \n\n\n\n\n\n\n\n\n\n\n\n\n\n\nShare this:\n				Email a link to a friend (Opens in new window)\n				Email\n			\n				Print (Opens in new window)\n				Print\n			\n				Share on Facebook (Opens in new window)\n				Facebook\n			\n				Share on X (Opens in new window)\n				X
URL:https://montgomerycoswcd.com/events/elementary-explorers-with-cdpl/
LOCATION:Crawfordsville District Public Library\, 205 S Washington St\, Crawfordsville\, Indiana\, 47933
END:VEVENT
BEGIN:VEVENT
DTSTART;TZID=America/Indiana/Indianapolis:20220415T080000
DTEND;TZID=America/Indiana/Indianapolis:20220415T163000
DTSTAMP:20260424T112340
CREATED:20220408T182749Z
LAST-MODIFIED:20220408T182752Z
UID:7632-1650009600-1650040200@montgomerycoswcd.com
SUMMARY:Office Closed-Good Friday
DESCRIPTION:The office will be closed on this day in observance of Good Friday. We will open back up on Monday April 18th.   \n\n\n\n\n\n\n\n\n\n\nShare this:\n				Email a link to a friend (Opens in new window)\n				Email\n			\n				Print (Opens in new window)\n				Print\n			\n				Share on Facebook (Opens in new window)\n				Facebook\n			\n				Share on X (Opens in new window)\n				X
URL:https://montgomerycoswcd.com/events/office-closed-good-friday/
END:VEVENT
BEGIN:VEVENT
DTSTART;TZID=America/Indiana/Indianapolis:20220411T080000
DTEND;TZID=America/Indiana/Indianapolis:20220516T163000
DTSTAMP:20260424T112340
CREATED:20220408T181456Z
LAST-MODIFIED:20220408T181500Z
UID:7622-1649664000-1652718600@montgomerycoswcd.com
SUMMARY:Native Plant Pre-Sale
DESCRIPTION:Why plant native plants? Native to Indiana means they occur naturally here and are usually more resistant to diseases and insects and often require less maintenance. This saves you time and money! \n\n\n\nIf you are planning on doing some landscaping this Spring consider the options we have for sale to brighten up your yard and attract pollinators like birds and butterflies! Redbud and Serviceberry are good options to consider to replace the invasive Callery Pear Trees. Another tree to avoid planting is the Norway Maple. Big box stores still sell these trees and they cause a lot of damage to our land. If you have questions as to what to plant on your property\, please do not hesitate to contact us today! \n\n\n\nWe will not be able to assure we will have plants available to purchase the day of pickup. Please order online if you are able. Orders are due May 16th by 4:30 pm. Pickup will be May 20th at the Montgomery County Fairgrounds at the Beef Barn from 4-7pm. \n\n\n\nIf paying by check please fill out and attach this order form to your check. Please call our office at 765-352-0405 extension 3 when dropping off payment. Checks can be made out to Montgomery County Soil & Water Conservation District. \n\n\n\nPlease call 765-362-0405 extension 121 to order by phone. Thank you for supporting us and choosing native plants! \n\n\n\n\n\n\n\n\n\n\n\n\n\n\nShare this:\n				Email a link to a friend (Opens in new window)\n				Email\n			\n				Print (Opens in new window)\n				Print\n			\n				Share on Facebook (Opens in new window)\n				Facebook\n			\n				Share on X (Opens in new window)\n				X
URL:https://montgomerycoswcd.com/events/native-plant-pre-sale/
END:VEVENT
BEGIN:VEVENT
DTSTART;TZID=America/Indiana/Indianapolis:20220408T100000
DTEND;TZID=America/Indiana/Indianapolis:20220522T160000
DTSTAMP:20260424T112340
CREATED:20220408T184745Z
LAST-MODIFIED:20220408T184749Z
UID:7642-1649412000-1653235200@montgomerycoswcd.com
SUMMARY:War of the Weeds with NICHES - this is a non-SWCD Event
DESCRIPTION:From April 8th to May 22nd\, NICHES  Land Trust will be hosting its annual Spring volunteer effort to improve diversity in woodlands. \n\n\n\nEvery spring\, the invasive plant garlic mustard emerges across our preserves in large numbers. If left unchecked\, this weed can change soil chemistry\, overtake the forest’s understory\, and diminish the beautiful display of native ephemeral wildflowers. With your help\, the forest understory will be filled with a diverse mix of plants that provide food and shelter to abundant wildlife. \n\n\n\nFor this year’s effort\, NICHES will be hosting 41 garlic mustard pulling shifts at 16 different local nature preserves within a 10-50 minute drive of Lafayette\, IN. This is NICHES single biggest annual volunteer push; if they can manage to fill every volunteer shift it will provide over a thousand volunteer hours during a critically important stewardship window. Please check out the shift dates/locations and sign-up. Contact Sam Cody with any questions sam@nicheslandtrust.org \n\n\n\nEvery Volunteer that Signs up for at least 2 shifts before the end of March will receive this years WOTW t-shirt (design below). \n\n\n\n2022 WOTW Garlic mustard pulling shift list: https://www.signupgenius.com/go/10c0c49a5ab28a1f8c43-2022 \n\n\n\n\n\n\n\n\n\n\n\n\n\n\nShare this:\n				Email a link to a friend (Opens in new window)\n				Email\n			\n				Print (Opens in new window)\n				Print\n			\n				Share on Facebook (Opens in new window)\n				Facebook\n			\n				Share on X (Opens in new window)\n				X
URL:https://montgomerycoswcd.com/events/war-of-the-weeds-with-niches-this-is-a-non-swcd-event/
ORGANIZER;CN="NICHES":MAILTO:niches@nicheslandtrust.org
END:VEVENT
BEGIN:VEVENT
DTSTART;TZID=America/Indiana/Indianapolis:20220408T080000
DTEND;TZID=America/Indiana/Indianapolis:20220408T170000
DTSTAMP:20260424T112340
CREATED:20220408T194823Z
LAST-MODIFIED:20220408T195108Z
UID:7676-1649404800-1649437200@montgomerycoswcd.com
SUMMARY:Office Closed
DESCRIPTION:The office will be closed in observance of Memorial Day. We will be open again on Tuesday May 31st.  \n\n\n\n\n\n\n\n\n\n\nShare this:\n				Email a link to a friend (Opens in new window)\n				Email\n			\n				Print (Opens in new window)\n				Print\n			\n				Share on Facebook (Opens in new window)\n				Facebook\n			\n				Share on X (Opens in new window)\n				X
URL:https://montgomerycoswcd.com/events/office-closed/
LOCATION:Montgomery County Soil and Water Conservation District\, 2036 Lebanon Road\, Crawfordsville\, Indiana\, 47933\, United States
END:VEVENT
BEGIN:VEVENT
DTSTART;TZID=America/Indiana/Indianapolis:20210118T000000
DTEND;TZID=America/Indiana/Indianapolis:20210118T235959
DTSTAMP:20260424T112340
CREATED:20201116T211750Z
LAST-MODIFIED:20201116T212153Z
UID:6052-1610928000-1611014399@montgomerycoswcd.com
SUMMARY:Martin Luther King Day- Office Closed
DESCRIPTION:Share this:\n				Email a link to a friend (Opens in new window)\n				Email\n			\n				Print (Opens in new window)\n				Print\n			\n				Share on Facebook (Opens in new window)\n				Facebook\n			\n				Share on X (Opens in new window)\n				X
URL:https://montgomerycoswcd.com/events/martin-luther-king-day-office-closed/
CATEGORIES:Office Closure
END:VEVENT
BEGIN:VEVENT
DTSTART;TZID=America/Indiana/Indianapolis:20210111T080000
DTEND;TZID=America/Indiana/Indianapolis:20210113T170000
DTSTAMP:20260424T112340
CREATED:20201123T160238Z
LAST-MODIFIED:20201204T204240Z
UID:6179-1610352000-1610557200@montgomerycoswcd.com
SUMMARY:Indiana SWCD Annual Conference
DESCRIPTION:We may be out of the office during this time. Feel free to contact us with questions here. \n\n\n\nThe 2021 Indiana Soil and Water Conservation District Annual Conference will be presented on a virtual format. The three-day event will be available live and recorded for later viewing for al those who register. \n\n\n\n\n\n\n\n\nShare this:\n				Email a link to a friend (Opens in new window)\n				Email\n			\n				Print (Opens in new window)\n				Print\n			\n				Share on Facebook (Opens in new window)\n				Facebook\n			\n				Share on X (Opens in new window)\n				X
URL:https://montgomerycoswcd.com/events/indiana-swcd-annual-conference/
LOCATION:Virtual
CATEGORIES:IASWCD
ORGANIZER;CN="Indiana Association of Soil and Water Conservation Districts":MAILTO:info@iaswcd.org
END:VEVENT
BEGIN:VEVENT
DTSTART;TZID=America/Indiana/Indianapolis:20210101T000000
DTEND;TZID=America/Indiana/Indianapolis:20210101T235959
DTSTAMP:20260424T112340
CREATED:20201116T211626Z
LAST-MODIFIED:20201116T212226Z
UID:6050-1609459200-1609545599@montgomerycoswcd.com
SUMMARY:New Year's Day- Office Closed
DESCRIPTION:Share this:\n				Email a link to a friend (Opens in new window)\n				Email\n			\n				Print (Opens in new window)\n				Print\n			\n				Share on Facebook (Opens in new window)\n				Facebook\n			\n				Share on X (Opens in new window)\n				X
URL:https://montgomerycoswcd.com/events/new-years-day-office-closed/
CATEGORIES:Office Closure
END:VEVENT
BEGIN:VEVENT
DTSTART;TZID=America/Indiana/Indianapolis:20201224T000000
DTEND;TZID=America/Indiana/Indianapolis:20201225T235959
DTSTAMP:20260424T112340
CREATED:20201116T204703Z
LAST-MODIFIED:20201116T211521Z
UID:6042-1608768000-1608940799@montgomerycoswcd.com
SUMMARY:Christmas Holiday- Office Closed
DESCRIPTION:Share this:\n				Email a link to a friend (Opens in new window)\n				Email\n			\n				Print (Opens in new window)\n				Print\n			\n				Share on Facebook (Opens in new window)\n				Facebook\n			\n				Share on X (Opens in new window)\n				X
URL:https://montgomerycoswcd.com/events/christmas-holiday-office-closed/
CATEGORIES:Office Closure
END:VEVENT
BEGIN:VEVENT
DTSTART;VALUE=DATE:20201126
DTEND;VALUE=DATE:20201128
DTSTAMP:20260424T112340
CREATED:20201116T202143Z
LAST-MODIFIED:20201116T204856Z
UID:6032-1606348800-1606521599@montgomerycoswcd.com
SUMMARY:Thanksgiving Holiday- Office Closed
DESCRIPTION:Share this:\n				Email a link to a friend (Opens in new window)\n				Email\n			\n				Print (Opens in new window)\n				Print\n			\n				Share on Facebook (Opens in new window)\n				Facebook\n			\n				Share on X (Opens in new window)\n				X
URL:https://montgomerycoswcd.com/events/thanksgiving-holiday-office-closed/
CATEGORIES:Office Closure
END:VEVENT
END:VCALENDAR