BEGIN:VCALENDAR
VERSION:2.0
PRODID:-//Montgomery County Soil &amp; Water Conservation District - ECPv6.15.20//NONSGML v1.0//EN
CALSCALE:GREGORIAN
METHOD:PUBLISH
X-WR-CALNAME:Montgomery County Soil &amp; Water Conservation District
X-ORIGINAL-URL:https://montgomerycoswcd.com
X-WR-CALDESC:Events for Montgomery County Soil &amp; Water Conservation District
REFRESH-INTERVAL;VALUE=DURATION:PT1H
X-Robots-Tag:noindex
X-PUBLISHED-TTL:PT1H
BEGIN:VTIMEZONE
TZID:America/Indiana/Indianapolis
BEGIN:DAYLIGHT
TZOFFSETFROM:-0500
TZOFFSETTO:-0400
TZNAME:EDT
DTSTART:20240310T070000
END:DAYLIGHT
BEGIN:STANDARD
TZOFFSETFROM:-0400
TZOFFSETTO:-0500
TZNAME:EST
DTSTART:20241103T060000
END:STANDARD
BEGIN:DAYLIGHT
TZOFFSETFROM:-0500
TZOFFSETTO:-0400
TZNAME:EDT
DTSTART:20250309T070000
END:DAYLIGHT
BEGIN:STANDARD
TZOFFSETFROM:-0400
TZOFFSETTO:-0500
TZNAME:EST
DTSTART:20251102T060000
END:STANDARD
BEGIN:DAYLIGHT
TZOFFSETFROM:-0500
TZOFFSETTO:-0400
TZNAME:EDT
DTSTART:20260308T070000
END:DAYLIGHT
BEGIN:STANDARD
TZOFFSETFROM:-0400
TZOFFSETTO:-0500
TZNAME:EST
DTSTART:20261101T060000
END:STANDARD
BEGIN:DAYLIGHT
TZOFFSETFROM:-0500
TZOFFSETTO:-0400
TZNAME:EDT
DTSTART:20270314T070000
END:DAYLIGHT
BEGIN:STANDARD
TZOFFSETFROM:-0400
TZOFFSETTO:-0500
TZNAME:EST
DTSTART:20271107T060000
END:STANDARD
END:VTIMEZONE
BEGIN:VEVENT
DTSTART;TZID=America/Indiana/Indianapolis:20260119T080000
DTEND;TZID=America/Indiana/Indianapolis:20260119T170000
DTSTAMP:20260423T193641
CREATED:20260105T180802Z
LAST-MODIFIED:20260105T180806Z
UID:11300-1768809600-1768842000@montgomerycoswcd.com
SUMMARY:Office Closed
DESCRIPTION:The USDA Service Center will be closed on January 19\, 2026 for Martin Luther King\, Jr. Day. We will reopen on January 20\, 2026. \n\n\n\n\n\n\n\n\n\n\nShare this:\n				Email a link to a friend (Opens in new window)\n				Email\n			\n				Print (Opens in new window)\n				Print\n			\n				Share on Facebook (Opens in new window)\n				Facebook\n			\n				Share on X (Opens in new window)\n				X
URL:https://montgomerycoswcd.com/events/office-closed-44/
LOCATION:Indiana
END:VEVENT
BEGIN:VEVENT
DTSTART;TZID=America/Indiana/Indianapolis:20260108T080000
DTEND;TZID=America/Indiana/Indianapolis:20260108T100000
DTSTAMP:20260423T193641
CREATED:20260105T182251Z
LAST-MODIFIED:20260105T183909Z
UID:11324-1767859200-1767866400@montgomerycoswcd.com
SUMMARY:SWCD Board Meeting
DESCRIPTION:SWCD staff and supervisors will meet in the USDA Conference Room at 8:00 AM for our monthly board meeting. This meeting is open to the public! \n\n\n\n\n\n\n\n\n\n\nShare this:\n				Email a link to a friend (Opens in new window)\n				Email\n			\n				Print (Opens in new window)\n				Print\n			\n				Share on Facebook (Opens in new window)\n				Facebook\n			\n				Share on X (Opens in new window)\n				X
URL:https://montgomerycoswcd.com/events/swcd-board-meeting-17/
LOCATION:USDA Service Center\, 2036 Lebanon Road\, Crawfordsville\, Indiana\, 47933
END:VEVENT
BEGIN:VEVENT
DTSTART;TZID=America/Indiana/Indianapolis:20260101T080000
DTEND;TZID=America/Indiana/Indianapolis:20260101T170000
DTSTAMP:20260423T193641
CREATED:20260105T180607Z
LAST-MODIFIED:20260105T180612Z
UID:11298-1767254400-1767286800@montgomerycoswcd.com
SUMMARY:Office Closed
DESCRIPTION:The USDA Service Center will be closed on January 1\, 2026 for New Year’s Day. We will reopen on January 2\, 2026. \n\n\n\n\n\n\n\n\n\n\nShare this:\n				Email a link to a friend (Opens in new window)\n				Email\n			\n				Print (Opens in new window)\n				Print\n			\n				Share on Facebook (Opens in new window)\n				Facebook\n			\n				Share on X (Opens in new window)\n				X
URL:https://montgomerycoswcd.com/events/office-closed-43/
LOCATION:Indiana
END:VEVENT
BEGIN:VEVENT
DTSTART;TZID=America/Indiana/Indianapolis:20251224T080000
DTEND;TZID=America/Indiana/Indianapolis:20251225T170000
DTSTAMP:20260423T193641
CREATED:20241216T191319Z
LAST-MODIFIED:20241216T191323Z
UID:10200-1766563200-1766682000@montgomerycoswcd.com
SUMMARY:Office Closed
DESCRIPTION:The office will be closed for Christmas. We will reopen at 8:00 AM on Friday\, December 26th. \n\n\n\n \n\n\n\nHappy Holidays! \n\n\n\n\n\n\n\n\n\n\nShare this:\n				Email a link to a friend (Opens in new window)\n				Email\n			\n				Print (Opens in new window)\n				Print\n			\n				Share on Facebook (Opens in new window)\n				Facebook\n			\n				Share on X (Opens in new window)\n				X
URL:https://montgomerycoswcd.com/events/office-closed-42/
LOCATION:Indiana
END:VEVENT
BEGIN:VEVENT
DTSTART;TZID=America/Indiana/Indianapolis:20251204T080000
DTEND;TZID=America/Indiana/Indianapolis:20251204T100000
DTSTAMP:20260423T193641
CREATED:20241216T191009Z
LAST-MODIFIED:20241216T191012Z
UID:10198-1764835200-1764842400@montgomerycoswcd.com
SUMMARY:SWCD Board Meeting
DESCRIPTION:SWCD staff and supervisors will meet in the USDA Conference Room at 8:00 AM for our monthly board meeting. This meeting is open to the public! \n\n\n\n\n\n\n\n\n\n\nShare this:\n				Email a link to a friend (Opens in new window)\n				Email\n			\n				Print (Opens in new window)\n				Print\n			\n				Share on Facebook (Opens in new window)\n				Facebook\n			\n				Share on X (Opens in new window)\n				X
URL:https://montgomerycoswcd.com/events/swcd-board-meeting-19/
LOCATION:USDA Service Center\, 2036 Lebanon Road\, Crawfordsville\, Indiana\, 47933
END:VEVENT
BEGIN:VEVENT
DTSTART;TZID=America/Indiana/Indianapolis:20251127T080000
DTEND;TZID=America/Indiana/Indianapolis:20251128T170000
DTSTAMP:20260423T193641
CREATED:20241216T190914Z
LAST-MODIFIED:20241216T190917Z
UID:10196-1764230400-1764349200@montgomerycoswcd.com
SUMMARY:Office Closed
DESCRIPTION:The office will be closed for Thanksgiving. We will reopen at 8:00 AM on Monday\, December 1st. \n\n\n\n\n\n\n\n\n\n\nShare this:\n				Email a link to a friend (Opens in new window)\n				Email\n			\n				Print (Opens in new window)\n				Print\n			\n				Share on Facebook (Opens in new window)\n				Facebook\n			\n				Share on X (Opens in new window)\n				X
URL:https://montgomerycoswcd.com/events/office-closed-41/
LOCATION:Indiana
END:VEVENT
BEGIN:VEVENT
DTSTART;TZID=America/Indiana/Indianapolis:20251118T100000
DTEND;TZID=America/Indiana/Indianapolis:20251118T130000
DTSTAMP:20260423T193641
CREATED:20251023T140831Z
LAST-MODIFIED:20251106T193840Z
UID:11228-1763460000-1763470800@montgomerycoswcd.com
SUMMARY:Table Talk Tuesday
DESCRIPTION:Share this:\n				Email a link to a friend (Opens in new window)\n				Email\n			\n				Print (Opens in new window)\n				Print\n			\n				Share on Facebook (Opens in new window)\n				Facebook\n			\n				Share on X (Opens in new window)\n				X
URL:https://montgomerycoswcd.com/events/table-talk-tuesday-5/
LOCATION:Indiana
END:VEVENT
BEGIN:VEVENT
DTSTART;TZID=America/Indiana/Indianapolis:20251111T080000
DTEND;TZID=America/Indiana/Indianapolis:20251111T170000
DTSTAMP:20260423T193641
CREATED:20241216T190746Z
LAST-MODIFIED:20241216T190750Z
UID:10194-1762848000-1762880400@montgomerycoswcd.com
SUMMARY:Office Closed
DESCRIPTION:The office will be closed for Veteran’s Day. We will reopen at 8:00 AM on Wednesday\, November 12th. \n\n\n\n \n\n\n\nThank you to all who served!  \n\n\n\n\n\n\n\n\n\n\nShare this:\n				Email a link to a friend (Opens in new window)\n				Email\n			\n				Print (Opens in new window)\n				Print\n			\n				Share on Facebook (Opens in new window)\n				Facebook\n			\n				Share on X (Opens in new window)\n				X
URL:https://montgomerycoswcd.com/events/office-closed-40/
LOCATION:Indiana
END:VEVENT
BEGIN:VEVENT
DTSTART;TZID=America/Indiana/Indianapolis:20251108T100000
DTEND;TZID=America/Indiana/Indianapolis:20251108T120000
DTSTAMP:20260423T193641
CREATED:20251107T191241Z
LAST-MODIFIED:20251107T191246Z
UID:11249-1762596000-1762603200@montgomerycoswcd.com
SUMMARY:Weed Wrangle
DESCRIPTION:Join us for a Weed Wrangle to clear up some bush honeysuckle around the canoe launch! Tools and safety gear are provided. \n\n\n\n\n\n\n\n\n\n\nShare this:\n				Email a link to a friend (Opens in new window)\n				Email\n			\n				Print (Opens in new window)\n				Print\n			\n				Share on Facebook (Opens in new window)\n				Facebook\n			\n				Share on X (Opens in new window)\n				X
URL:https://montgomerycoswcd.com/events/weed-wrangle-3/
LOCATION:Sugar Creek Canoe Launch Site\, 624 Lafayette Avenue\, CRAWFORDSVLLE\, Indiana\, 47933\, United States
END:VEVENT
BEGIN:VEVENT
DTSTART;TZID=America/Indiana/Indianapolis:20251106T080000
DTEND;TZID=America/Indiana/Indianapolis:20251106T100000
DTSTAMP:20260423T193641
CREATED:20241216T185806Z
LAST-MODIFIED:20251029T144840Z
UID:10192-1762416000-1762423200@montgomerycoswcd.com
SUMMARY:SWCD Board Meeting
DESCRIPTION:SWCD staff and supervisors will meet in the PNC Conference Room (2nd floor) of Fusion54 at 8:00 AM for our monthly board meeting. This meeting is open to the public! \n\n\n\n\n\n\n\n\n\n\nShare this:\n				Email a link to a friend (Opens in new window)\n				Email\n			\n				Print (Opens in new window)\n				Print\n			\n				Share on Facebook (Opens in new window)\n				Facebook\n			\n				Share on X (Opens in new window)\n				X
URL:https://montgomerycoswcd.com/events/swcd-board-meeting-18/
LOCATION:Fusion 54\, 101 W. Main St.\, Crawfordsville\, Indiana\, 47933\, United States
END:VEVENT
BEGIN:VEVENT
DTSTART;TZID=America/Indiana/Indianapolis:20251105T113000
DTEND;TZID=America/Indiana/Indianapolis:20251105T130000
DTSTAMP:20260423T193641
CREATED:20241231T163058Z
LAST-MODIFIED:20251031T170052Z
UID:10293-1762342200-1762347600@montgomerycoswcd.com
SUMMARY:4th Quarterly CGMC Meeting
DESCRIPTION:Join us for our final CGMC Meeting of the year! Learn how to wrap up your garden and have it ready for next year.  \n\n\n\n\n\n\nShare this:\n				Email a link to a friend (Opens in new window)\n				Email\n			\n				Print (Opens in new window)\n				Print\n			\n				Share on Facebook (Opens in new window)\n				Facebook\n			\n				Share on X (Opens in new window)\n				X
URL:https://montgomerycoswcd.com/events/4th-quarterly-cgmc-meeting/
LOCATION:The Table Spoon\, 116 S Green St\, Crawfordsville\, Indiana\, 47933
END:VEVENT
BEGIN:VEVENT
DTSTART;TZID=America/Indiana/Indianapolis:20251029T160000
DTEND;TZID=America/Indiana/Indianapolis:20251029T170000
DTSTAMP:20260423T193641
CREATED:20251007T123708Z
LAST-MODIFIED:20251022T142631Z
UID:11208-1761753600-1761757200@montgomerycoswcd.com
SUMMARY:Q4 CISMA Meeting
DESCRIPTION:Share this:\n				Email a link to a friend (Opens in new window)\n				Email\n			\n				Print (Opens in new window)\n				Print\n			\n				Share on Facebook (Opens in new window)\n				Facebook\n			\n				Share on X (Opens in new window)\n				X
URL:https://montgomerycoswcd.com/events/q4-cisma-meeting/
LOCATION:Indiana
END:VEVENT
BEGIN:VEVENT
DTSTART;TZID=America/Indiana/Indianapolis:20251015T080000
DTEND;TZID=America/Indiana/Indianapolis:20251017T170000
DTSTAMP:20260423T193641
CREATED:20241230T170904Z
LAST-MODIFIED:20241230T170907Z
UID:10277-1760515200-1760720400@montgomerycoswcd.com
SUMMARY:IDEA Conference
DESCRIPTION:We’ll be out of the office for the District Employee Conference these days. We’ll be back the following Monday. \n\n\n\n\n\n\n\n\n\n\nShare this:\n				Email a link to a friend (Opens in new window)\n				Email\n			\n				Print (Opens in new window)\n				Print\n			\n				Share on Facebook (Opens in new window)\n				Facebook\n			\n				Share on X (Opens in new window)\n				X
URL:https://montgomerycoswcd.com/events/idea-conference-2/
LOCATION:Indiana
END:VEVENT
BEGIN:VEVENT
DTSTART;TZID=America/Indiana/Indianapolis:20251013T080000
DTEND;TZID=America/Indiana/Indianapolis:20251013T170000
DTSTAMP:20260423T193641
CREATED:20241216T185708Z
LAST-MODIFIED:20241216T185712Z
UID:10190-1760342400-1760374800@montgomerycoswcd.com
SUMMARY:Office Closed
DESCRIPTION:The office will be closed for Columbus Day. We will reopen at 8:00 AM on Tuesday\, October 14th. \n\n\n\n\n\n\n\n\n\n\nShare this:\n				Email a link to a friend (Opens in new window)\n				Email\n			\n				Print (Opens in new window)\n				Print\n			\n				Share on Facebook (Opens in new window)\n				Facebook\n			\n				Share on X (Opens in new window)\n				X
URL:https://montgomerycoswcd.com/events/office-closed-39/
LOCATION:Indiana
END:VEVENT
BEGIN:VEVENT
DTSTART;TZID=America/Indiana/Indianapolis:20251011T100000
DTEND;TZID=America/Indiana/Indianapolis:20251011T120000
DTSTAMP:20260423T193641
CREATED:20250923T155808Z
LAST-MODIFIED:20250923T155812Z
UID:11179-1760176800-1760184000@montgomerycoswcd.com
SUMMARY:Statewide Weed Wrangle
DESCRIPTION:Share this:\n				Email a link to a friend (Opens in new window)\n				Email\n			\n				Print (Opens in new window)\n				Print\n			\n				Share on Facebook (Opens in new window)\n				Facebook\n			\n				Share on X (Opens in new window)\n				X
URL:https://montgomerycoswcd.com/events/statewide-weed-wrangle/
LOCATION:Indiana
END:VEVENT
BEGIN:VEVENT
DTSTART;TZID=America/Indiana/Indianapolis:20250916T120000
DTEND;TZID=America/Indiana/Indianapolis:20250916T150000
DTSTAMP:20260423T193641
CREATED:20250827T192009Z
LAST-MODIFIED:20250827T192013Z
UID:11155-1758024000-1758034800@montgomerycoswcd.com
SUMMARY:Table Talk Tuesday
DESCRIPTION:Share this:\n				Email a link to a friend (Opens in new window)\n				Email\n			\n				Print (Opens in new window)\n				Print\n			\n				Share on Facebook (Opens in new window)\n				Facebook\n			\n				Share on X (Opens in new window)\n				X
URL:https://montgomerycoswcd.com/events/table-talk-tuesday-4/
LOCATION:Indiana
END:VEVENT
BEGIN:VEVENT
DTSTART;TZID=America/Indiana/Indianapolis:20250904T080000
DTEND;TZID=America/Indiana/Indianapolis:20250904T100000
DTSTAMP:20260423T193641
CREATED:20241216T185507Z
LAST-MODIFIED:20241216T185509Z
UID:10186-1756972800-1756980000@montgomerycoswcd.com
SUMMARY:SWCD Board Meeting
DESCRIPTION:SWCD staff and supervisors will meet in the USDA Conference Room at 8:00 AM for our monthly board meeting. This meeting is open to the public! \n\n\n\n\n\n\n\n\n\n\nShare this:\n				Email a link to a friend (Opens in new window)\n				Email\n			\n				Print (Opens in new window)\n				Print\n			\n				Share on Facebook (Opens in new window)\n				Facebook\n			\n				Share on X (Opens in new window)\n				X
URL:https://montgomerycoswcd.com/events/swcd-board-meeting-16/
LOCATION:USDA Service Center\, 2036 Lebanon Road\, Crawfordsville\, Indiana\, 47933
END:VEVENT
BEGIN:VEVENT
DTSTART;TZID=America/Indiana/Indianapolis:20250901T080000
DTEND;TZID=America/Indiana/Indianapolis:20250901T170000
DTSTAMP:20260423T193641
CREATED:20241216T185409Z
LAST-MODIFIED:20241216T185413Z
UID:10184-1756713600-1756746000@montgomerycoswcd.com
SUMMARY:Office Closed
DESCRIPTION:The office will be closed for Labor Day. We will reopen at 8:00 AM on Tuesday\, September 2nd. \n\n\n\n\n\n\n\n\n\n\nShare this:\n				Email a link to a friend (Opens in new window)\n				Email\n			\n				Print (Opens in new window)\n				Print\n			\n				Share on Facebook (Opens in new window)\n				Facebook\n			\n				Share on X (Opens in new window)\n				X
URL:https://montgomerycoswcd.com/events/office-closed-38/
LOCATION:Indiana
END:VEVENT
BEGIN:VEVENT
DTSTART;TZID=America/Indiana/Indianapolis:20250821T080000
DTEND;TZID=America/Indiana/Indianapolis:20250822T133000
DTSTAMP:20260423T193641
CREATED:20250616T131423Z
LAST-MODIFIED:20250616T131427Z
UID:11012-1755763200-1755869400@montgomerycoswcd.com
SUMMARY:4th Grade Field Days
DESCRIPTION:Field days take place at Cain’s Homelike Farms and consists of 8 different outdoor stations for students to learn about many different conservation-related topics including pollinators\, water quality\, soil health and more. The goal is to have a fun\, educational event that meets some school standards. \n\n\n\n\n\n\n\n\n\n\nShare this:\n				Email a link to a friend (Opens in new window)\n				Email\n			\n				Print (Opens in new window)\n				Print\n			\n				Share on Facebook (Opens in new window)\n				Facebook\n			\n				Share on X (Opens in new window)\n				X
URL:https://montgomerycoswcd.com/events/4th-grade-field-days-2/
LOCATION:Indiana
END:VEVENT
BEGIN:VEVENT
DTSTART;TZID=America/Indiana/Indianapolis:20250812T120000
DTEND;TZID=America/Indiana/Indianapolis:20250812T150000
DTSTAMP:20260423T193641
CREATED:20250808T200914Z
LAST-MODIFIED:20250808T200918Z
UID:11111-1755000000-1755010800@montgomerycoswcd.com
SUMMARY:Table Talk Tuesday
DESCRIPTION:Share this:\n				Email a link to a friend (Opens in new window)\n				Email\n			\n				Print (Opens in new window)\n				Print\n			\n				Share on Facebook (Opens in new window)\n				Facebook\n			\n				Share on X (Opens in new window)\n				X
URL:https://montgomerycoswcd.com/events/table-talk-tuesday-3/
LOCATION:Indiana
END:VEVENT
BEGIN:VEVENT
DTSTART;TZID=America/Indiana/Indianapolis:20250807T080000
DTEND;TZID=America/Indiana/Indianapolis:20250807T100000
DTSTAMP:20260423T193641
CREATED:20241216T185231Z
LAST-MODIFIED:20241216T185233Z
UID:10182-1754553600-1754560800@montgomerycoswcd.com
SUMMARY:SWCD Board Meeting
DESCRIPTION:SWCD staff and supervisors will meet in the USDA Conference Room at 8:00 AM for our monthly board meeting. This meeting is open to the public! \n\n\n\n\n\n\n\n\n\n\nShare this:\n				Email a link to a friend (Opens in new window)\n				Email\n			\n				Print (Opens in new window)\n				Print\n			\n				Share on Facebook (Opens in new window)\n				Facebook\n			\n				Share on X (Opens in new window)\n				X
URL:https://montgomerycoswcd.com/events/swcd-board-meeting-15/
LOCATION:USDA Service Center\, 2036 Lebanon Road\, Crawfordsville\, Indiana\, 47933
END:VEVENT
BEGIN:VEVENT
DTSTART;TZID=America/Indiana/Indianapolis:20250806T100000
DTEND;TZID=America/Indiana/Indianapolis:20250806T113000
DTSTAMP:20260423T193641
CREATED:20241231T162724Z
LAST-MODIFIED:20241231T162727Z
UID:10289-1754474400-1754479800@montgomerycoswcd.com
SUMMARY:3rd Quarterly CGMC Meeting
DESCRIPTION:Join us for our 3rd growers meeting of the year! Tell us about how your garden has been growing and bring any questions you have about soil health and growing food! \n\n\n\n\n\n\n\n\n\n\nShare this:\n				Email a link to a friend (Opens in new window)\n				Email\n			\n				Print (Opens in new window)\n				Print\n			\n				Share on Facebook (Opens in new window)\n				Facebook\n			\n				Share on X (Opens in new window)\n				X
URL:https://montgomerycoswcd.com/events/3rd-quarterly-cgmc-meeting/
LOCATION:USDA Service Center\, 2036 Lebanon Road\, Crawfordsville\, Indiana\, 47933
END:VEVENT
BEGIN:VEVENT
DTSTART;TZID=America/Indiana/Indianapolis:20250726T100000
DTEND;TZID=America/Indiana/Indianapolis:20250726T120000
DTSTAMP:20260423T193641
CREATED:20250616T131151Z
LAST-MODIFIED:20250711T140059Z
UID:11010-1753524000-1753531200@montgomerycoswcd.com
SUMMARY:Garden Walk
DESCRIPTION:*We will have lots of time at each location for questions and exploration of the gardens. \n\n\n\n**Expect to encounter flying gnats. We recommend bringing head nets to avoid irritation! \n\n\n\n\nShare this:\n				Email a link to a friend (Opens in new window)\n				Email\n			\n				Print (Opens in new window)\n				Print\n			\n				Share on Facebook (Opens in new window)\n				Facebook\n			\n				Share on X (Opens in new window)\n				X
URL:https://montgomerycoswcd.com/events/garden-walk-2/
LOCATION:Indiana
END:VEVENT
BEGIN:VEVENT
DTSTART;TZID=America/Indiana/Indianapolis:20250725T180000
DTEND;TZID=America/Indiana/Indianapolis:20250725T200000
DTSTAMP:20260423T193641
CREATED:20250710T132409Z
LAST-MODIFIED:20250710T134750Z
UID:11065-1753466400-1753473600@montgomerycoswcd.com
SUMMARY:Forestry Field Day
DESCRIPTION:Share this:\n				Email a link to a friend (Opens in new window)\n				Email\n			\n				Print (Opens in new window)\n				Print\n			\n				Share on Facebook (Opens in new window)\n				Facebook\n			\n				Share on X (Opens in new window)\n				X
URL:https://montgomerycoswcd.com/events/forestry-field-day-2/
LOCATION:Indiana
END:VEVENT
BEGIN:VEVENT
DTSTART;TZID=America/Indiana/Indianapolis:20250715T120000
DTEND;TZID=America/Indiana/Indianapolis:20250715T150000
DTSTAMP:20260423T193641
CREATED:20250710T134601Z
LAST-MODIFIED:20250710T134624Z
UID:11074-1752580800-1752591600@montgomerycoswcd.com
SUMMARY:Table Talk Tuesday
DESCRIPTION:Share this:\n				Email a link to a friend (Opens in new window)\n				Email\n			\n				Print (Opens in new window)\n				Print\n			\n				Share on Facebook (Opens in new window)\n				Facebook\n			\n				Share on X (Opens in new window)\n				X
URL:https://montgomerycoswcd.com/events/table-talk-tuesday-2/
LOCATION:Indiana
END:VEVENT
BEGIN:VEVENT
DTSTART;TZID=America/Indiana/Indianapolis:20250710T160000
DTEND;TZID=America/Indiana/Indianapolis:20250710T170000
DTSTAMP:20260423T193641
CREATED:20241231T162549Z
LAST-MODIFIED:20241231T162552Z
UID:10287-1752163200-1752166800@montgomerycoswcd.com
SUMMARY:3rd Quarterly CISMA Meeting
DESCRIPTION:Join us for our 3rd meeting of the year and catch up on the invasive species work we’ve accomplished! \n\n\n\n\n\n\n\n\n\n\nShare this:\n				Email a link to a friend (Opens in new window)\n				Email\n			\n				Print (Opens in new window)\n				Print\n			\n				Share on Facebook (Opens in new window)\n				Facebook\n			\n				Share on X (Opens in new window)\n				X
URL:https://montgomerycoswcd.com/events/3rd-quarterly-cisma-meeting-2/
LOCATION:USDA Service Center\, 2036 Lebanon Road\, Crawfordsville\, Indiana\, 47933
END:VEVENT
BEGIN:VEVENT
DTSTART;TZID=America/Indiana/Indianapolis:20250704T080000
DTEND;TZID=America/Indiana/Indianapolis:20250704T170000
DTSTAMP:20260423T193641
CREATED:20241216T185022Z
LAST-MODIFIED:20241216T185025Z
UID:10180-1751616000-1751648400@montgomerycoswcd.com
SUMMARY:Office Closed
DESCRIPTION:The office will be closed for Independence Day. We will reopen at 8:00 AM on Monday\, July 7th. \n\n\n\n\n\n\n\n\n\n\nShare this:\n				Email a link to a friend (Opens in new window)\n				Email\n			\n				Print (Opens in new window)\n				Print\n			\n				Share on Facebook (Opens in new window)\n				Facebook\n			\n				Share on X (Opens in new window)\n				X
URL:https://montgomerycoswcd.com/events/office-closed-37/
LOCATION:Indiana
END:VEVENT
BEGIN:VEVENT
DTSTART;TZID=America/Indiana/Indianapolis:20250703T080000
DTEND;TZID=America/Indiana/Indianapolis:20250703T100000
DTSTAMP:20260423T193641
CREATED:20241216T184910Z
LAST-MODIFIED:20241216T184914Z
UID:10178-1751529600-1751536800@montgomerycoswcd.com
SUMMARY:SWCD Board Meeting
DESCRIPTION:SWCD staff and supervisors will meet in the USDA Conference Room at 8:00 AM for our monthly board meeting. This meeting is open to the public! \n\n\n\n\n\n\n\n\n\n\nShare this:\n				Email a link to a friend (Opens in new window)\n				Email\n			\n				Print (Opens in new window)\n				Print\n			\n				Share on Facebook (Opens in new window)\n				Facebook\n			\n				Share on X (Opens in new window)\n				X
URL:https://montgomerycoswcd.com/events/swcd-board-meeting-14/
LOCATION:USDA Service Center\, 2036 Lebanon Road\, Crawfordsville\, Indiana\, 47933
END:VEVENT
BEGIN:VEVENT
DTSTART;TZID=America/Indiana/Indianapolis:20250628T080000
DTEND;TZID=America/Indiana/Indianapolis:20250628T140000
DTSTAMP:20260423T193641
CREATED:20250616T130821Z
LAST-MODIFIED:20250616T130825Z
UID:11006-1751097600-1751119200@montgomerycoswcd.com
SUMMARY:SWCD Tabling at Farmer's Market
DESCRIPTION:Come see us at the Crawfordsville Farmer’s Market! SWCD staff will be hosting a booth with free pamphlets and conservation materials. We’d love to see you!  \n\n\n\n\n\n\n\n\n\n\nShare this:\n				Email a link to a friend (Opens in new window)\n				Email\n			\n				Print (Opens in new window)\n				Print\n			\n				Share on Facebook (Opens in new window)\n				Facebook\n			\n				Share on X (Opens in new window)\n				X
URL:https://montgomerycoswcd.com/events/swcd-tabling-at-farmers-market/
LOCATION:Crawfordsville Farmer’s Market\, 100 W Pike St\, Crawfordsville\, Indiana\, 47933\, United States
END:VEVENT
BEGIN:VEVENT
DTSTART;TZID=America/Indiana/Indianapolis:20250619T080000
DTEND;TZID=America/Indiana/Indianapolis:20250619T170000
DTSTAMP:20260423T193641
CREATED:20241216T184652Z
LAST-MODIFIED:20241216T184654Z
UID:10174-1750320000-1750352400@montgomerycoswcd.com
SUMMARY:Office Closed
DESCRIPTION:The office will be closed for Juneteenth. We will reopen at 8:00 AM on Friday\, June 20th. \n\n\n\n\n\n\n\n\n\n\n\n\n\n \nShare this:\n				Email a link to a friend (Opens in new window)\n				Email\n			\n				Print (Opens in new window)\n				Print\n			\n				Share on Facebook (Opens in new window)\n				Facebook\n			\n				Share on X (Opens in new window)\n				X
URL:https://montgomerycoswcd.com/events/office-closed-36/
LOCATION:Indiana
END:VEVENT
END:VCALENDAR