BEGIN:VCALENDAR
VERSION:2.0
PRODID:-//Montgomery County Soil &amp; Water Conservation District - ECPv6.15.20//NONSGML v1.0//EN
CALSCALE:GREGORIAN
METHOD:PUBLISH
X-WR-CALNAME:Montgomery County Soil &amp; Water Conservation District
X-ORIGINAL-URL:https://montgomerycoswcd.com
X-WR-CALDESC:Events for Montgomery County Soil &amp; Water Conservation District
REFRESH-INTERVAL;VALUE=DURATION:PT1H
X-Robots-Tag:noindex
X-PUBLISHED-TTL:PT1H
BEGIN:VTIMEZONE
TZID:America/Indiana/Indianapolis
BEGIN:DAYLIGHT
TZOFFSETFROM:-0500
TZOFFSETTO:-0400
TZNAME:EDT
DTSTART:20230312T070000
END:DAYLIGHT
BEGIN:STANDARD
TZOFFSETFROM:-0400
TZOFFSETTO:-0500
TZNAME:EST
DTSTART:20231105T060000
END:STANDARD
BEGIN:DAYLIGHT
TZOFFSETFROM:-0500
TZOFFSETTO:-0400
TZNAME:EDT
DTSTART:20240310T070000
END:DAYLIGHT
BEGIN:STANDARD
TZOFFSETFROM:-0400
TZOFFSETTO:-0500
TZNAME:EST
DTSTART:20241103T060000
END:STANDARD
BEGIN:DAYLIGHT
TZOFFSETFROM:-0500
TZOFFSETTO:-0400
TZNAME:EDT
DTSTART:20250309T070000
END:DAYLIGHT
BEGIN:STANDARD
TZOFFSETFROM:-0400
TZOFFSETTO:-0500
TZNAME:EST
DTSTART:20251102T060000
END:STANDARD
BEGIN:DAYLIGHT
TZOFFSETFROM:-0500
TZOFFSETTO:-0400
TZNAME:EDT
DTSTART:20260308T070000
END:DAYLIGHT
BEGIN:STANDARD
TZOFFSETFROM:-0400
TZOFFSETTO:-0500
TZNAME:EST
DTSTART:20261101T060000
END:STANDARD
END:VTIMEZONE
BEGIN:VEVENT
DTSTART;TZID=America/Indiana/Indianapolis:20250617T090000
DTEND;TZID=America/Indiana/Indianapolis:20250617T110000
DTSTAMP:20260423T185148
CREATED:20250613T125525Z
LAST-MODIFIED:20250613T125530Z
UID:10985-1750150800-1750158000@montgomerycoswcd.com
SUMMARY:Shades State Park Weed Wrangle
DESCRIPTION:Join us for a Weed Wrangle in Shades State Park! Enjoy the beauty of Shades in the Summer time and help protect this gem from invasive plants! \n\n\n\n\n\n\n\n\n\n\nShare this:\n				Email a link to a friend (Opens in new window)\n				Email\n			\n				Print (Opens in new window)\n				Print\n			\n				Share on Facebook (Opens in new window)\n				Facebook\n			\n				Share on X (Opens in new window)\n				X
URL:https://montgomerycoswcd.com/events/shades-state-park-weed-wrangle/
LOCATION:Shades State Park\, 7751 S. 890 W.\, Waveland\, 47989
END:VEVENT
BEGIN:VEVENT
DTSTART;TZID=America/Indiana/Indianapolis:20250607T100000
DTEND;TZID=America/Indiana/Indianapolis:20250607T140000
DTSTAMP:20260423T185148
CREATED:20250505T184328Z
LAST-MODIFIED:20250505T184333Z
UID:10943-1749290400-1749304800@montgomerycoswcd.com
SUMMARY:Native Plant Sale Pickup
DESCRIPTION:This is the day to pickup your orders for our Native Plant Sale! They will be available to pickup at the 4H fairgrounds from 10am-2pm during the Master Gardeners Native Plant Jamboree. It will be a day filled with Native plants for all! \n\n\n\n\n\n\n\n\n\n\nShare this:\n				Email a link to a friend (Opens in new window)\n				Email\n			\n				Print (Opens in new window)\n				Print\n			\n				Share on Facebook (Opens in new window)\n				Facebook\n			\n				Share on X (Opens in new window)\n				X
URL:https://montgomerycoswcd.com/events/native-plant-sale-pickup-2/
LOCATION:Montgomery County 4H Fairgrounds\, 400 Parke Ave\, Crawfordsville\, Indiana\, 47933\, United States
END:VEVENT
BEGIN:VEVENT
DTSTART;TZID=America/Indiana/Indianapolis:20250605T080000
DTEND;TZID=America/Indiana/Indianapolis:20250605T100000
DTSTAMP:20260423T185148
CREATED:20241216T184802Z
LAST-MODIFIED:20241216T184805Z
UID:10176-1749110400-1749117600@montgomerycoswcd.com
SUMMARY:SWCD Board Meeting
DESCRIPTION:SWCD staff and supervisors will meet in the USDA Conference Room at 8:00 AM for our monthly board meeting. This meeting is open to the public! \n\n\n\n\n\n\n\n\n\n\nShare this:\n				Email a link to a friend (Opens in new window)\n				Email\n			\n				Print (Opens in new window)\n				Print\n			\n				Share on Facebook (Opens in new window)\n				Facebook\n			\n				Share on X (Opens in new window)\n				X
URL:https://montgomerycoswcd.com/events/swcd-board-meeting-13/
LOCATION:USDA Service Center\, 2036 Lebanon Road\, Crawfordsville\, Indiana\, 47933
END:VEVENT
BEGIN:VEVENT
DTSTART;TZID=America/Indiana/Indianapolis:20250526T080000
DTEND;TZID=America/Indiana/Indianapolis:20250526T170000
DTSTAMP:20260423T185148
CREATED:20241216T184525Z
LAST-MODIFIED:20241216T184529Z
UID:10172-1748246400-1748278800@montgomerycoswcd.com
SUMMARY:Office Closed
DESCRIPTION:The office will be closed for Memorial Day. We will reopen at 8:00 AM on Tuesday\, May 27th. \n\n\n\n\n\n\n\n\n\n\nShare this:\n				Email a link to a friend (Opens in new window)\n				Email\n			\n				Print (Opens in new window)\n				Print\n			\n				Share on Facebook (Opens in new window)\n				Facebook\n			\n				Share on X (Opens in new window)\n				X
URL:https://montgomerycoswcd.com/events/office-closed-35/
LOCATION:Indiana
END:VEVENT
BEGIN:VEVENT
DTSTART;TZID=America/Indiana/Indianapolis:20250521T100000
DTEND;TZID=America/Indiana/Indianapolis:20250521T113000
DTSTAMP:20260423T185148
CREATED:20241231T162429Z
LAST-MODIFIED:20241231T162432Z
UID:10285-1747821600-1747827000@montgomerycoswcd.com
SUMMARY:2nd Quarterly CGMC Meeting
DESCRIPTION:Join us for our 2nd growers meeting of the year!  \n\n\n\n\n\n\n\n\n\n\nShare this:\n				Email a link to a friend (Opens in new window)\n				Email\n			\n				Print (Opens in new window)\n				Print\n			\n				Share on Facebook (Opens in new window)\n				Facebook\n			\n				Share on X (Opens in new window)\n				X
URL:https://montgomerycoswcd.com/events/2nd-quarterly-cgmc-meeting/
LOCATION:USDA Service Center\, 2036 Lebanon Road\, Crawfordsville\, Indiana\, 47933
END:VEVENT
BEGIN:VEVENT
DTSTART;TZID=America/Indiana/Indianapolis:20250508T080000
DTEND;TZID=America/Indiana/Indianapolis:20250509T170000
DTSTAMP:20260423T185148
CREATED:20250424T172850Z
LAST-MODIFIED:20250424T172854Z
UID:10548-1746691200-1746810000@montgomerycoswcd.com
SUMMARY:Purdue Extension 4th Grade Ag Days
DESCRIPTION:Share this:\n				Email a link to a friend (Opens in new window)\n				Email\n			\n				Print (Opens in new window)\n				Print\n			\n				Share on Facebook (Opens in new window)\n				Facebook\n			\n				Share on X (Opens in new window)\n				X
URL:https://montgomerycoswcd.com/events/purdue-extension-4th-grade-ag-days/
LOCATION:Indiana
END:VEVENT
BEGIN:VEVENT
DTSTART;TZID=America/Indiana/Indianapolis:20250503T080000
DTEND;TZID=America/Indiana/Indianapolis:20250503T130000
DTSTAMP:20260423T185148
CREATED:20250424T172135Z
LAST-MODIFIED:20250424T172139Z
UID:10545-1746259200-1746277200@montgomerycoswcd.com
SUMMARY:Master Gardener's Native Plant Sale
DESCRIPTION:The SWCD will be here at a table with lots of information and learning resources! \n\n\n\nTo learn more about the Plant Sale\, click here. \n\n\n\n\n\n\n\n\n\n\nShare this:\n				Email a link to a friend (Opens in new window)\n				Email\n			\n				Print (Opens in new window)\n				Print\n			\n				Share on Facebook (Opens in new window)\n				Facebook\n			\n				Share on X (Opens in new window)\n				X
URL:https://montgomerycoswcd.com/events/master-gardeners-native-plant-sale/
LOCATION:Indiana
END:VEVENT
BEGIN:VEVENT
DTSTART;TZID=America/Indiana/Indianapolis:20250501T080000
DTEND;TZID=America/Indiana/Indianapolis:20250501T100000
DTSTAMP:20260423T185148
CREATED:20241216T184305Z
LAST-MODIFIED:20241216T184307Z
UID:10170-1746086400-1746093600@montgomerycoswcd.com
SUMMARY:SWCD Board Meeting
DESCRIPTION:SWCD staff and supervisors will meet in the USDA Conference Room at 8:00 AM for our monthly board meeting. This meeting is open to the public! \n\n\n\n\n\n\n\n\n\n\nShare this:\n				Email a link to a friend (Opens in new window)\n				Email\n			\n				Print (Opens in new window)\n				Print\n			\n				Share on Facebook (Opens in new window)\n				Facebook\n			\n				Share on X (Opens in new window)\n				X
URL:https://montgomerycoswcd.com/events/swcd-board-meeting-12/
LOCATION:USDA Service Center\, 2036 Lebanon Road\, Crawfordsville\, Indiana\, 47933
END:VEVENT
BEGIN:VEVENT
DTSTART;TZID=America/Indiana/Indianapolis:20250418T080000
DTEND;TZID=America/Indiana/Indianapolis:20250418T170000
DTSTAMP:20260423T185148
CREATED:20241216T184118Z
LAST-MODIFIED:20241216T184121Z
UID:10168-1744963200-1744995600@montgomerycoswcd.com
SUMMARY:Office Closed
DESCRIPTION:The office will be closed for Good Friday. We will reopen at 8:00 AM on Monday\, April 21st. \n\n\n\n\n\n\n\n\n\n\nShare this:\n				Email a link to a friend (Opens in new window)\n				Email\n			\n				Print (Opens in new window)\n				Print\n			\n				Share on Facebook (Opens in new window)\n				Facebook\n			\n				Share on X (Opens in new window)\n				X
URL:https://montgomerycoswcd.com/events/office-closed-34/
LOCATION:Indiana
END:VEVENT
BEGIN:VEVENT
DTSTART;TZID=America/Indiana/Indianapolis:20250411T100000
DTEND;TZID=America/Indiana/Indianapolis:20250411T160000
DTSTAMP:20260423T185148
CREATED:20250402T141610Z
LAST-MODIFIED:20250402T141613Z
UID:10527-1744365600-1744387200@montgomerycoswcd.com
SUMMARY:Bachner War of the Weeds
DESCRIPTION:Join us for the 6th annual NICHES Land Trust War of the Weeds! Come out to Bachner Preserve just South of Crawfordsville to help us pull garlic mustard. Each year we get a little bit closer to cleaning this property up and we can’t do it without your help. Sign up at the link below.  https://nicheslandtrust.org/war-of-the-weeds?fbclid=IwY2xjawJaJVlleHRuA2FlbQIxMAABHQurkC5gdu7gglXMUkJAvigC5Ug75Ms2dPlpbAOCU8HDD0zrXvgjspQXJw_aem_YSwLoX6bIl7fNgRVv0pIAQ \n\n\n\n\n\n\n\n\n\n\nShare this:\n				Email a link to a friend (Opens in new window)\n				Email\n			\n				Print (Opens in new window)\n				Print\n			\n				Share on Facebook (Opens in new window)\n				Facebook\n			\n				Share on X (Opens in new window)\n				X
URL:https://montgomerycoswcd.com/events/bachner-war-of-the-weeds/
LOCATION:Bachner Nature Preserve\, 39°59'53.9"N 86°59'23.4"W
END:VEVENT
BEGIN:VEVENT
DTSTART;TZID=America/Indiana/Indianapolis:20250409T160000
DTEND;TZID=America/Indiana/Indianapolis:20250409T170000
DTSTAMP:20260423T185148
CREATED:20241231T162255Z
LAST-MODIFIED:20241231T162258Z
UID:10283-1744214400-1744218000@montgomerycoswcd.com
SUMMARY:2nd Quarterly CISMA Meeting
DESCRIPTION:Join us for our 2nd CISMA meeting of the year\, learn how to combat invasives on your property and the projects we are working on in the community.  \n\n\n\n\n\n\n\n\n\n\nShare this:\n				Email a link to a friend (Opens in new window)\n				Email\n			\n				Print (Opens in new window)\n				Print\n			\n				Share on Facebook (Opens in new window)\n				Facebook\n			\n				Share on X (Opens in new window)\n				X
URL:https://montgomerycoswcd.com/events/2nd-quarterly-cisma-meeting-2/
LOCATION:USDA Service Center\, 2036 Lebanon Road\, Crawfordsville\, Indiana\, 47933
END:VEVENT
BEGIN:VEVENT
DTSTART;TZID=America/Indiana/Indianapolis:20250403T080000
DTEND;TZID=America/Indiana/Indianapolis:20250403T100000
DTSTAMP:20260423T185148
CREATED:20241216T163158Z
LAST-MODIFIED:20241216T183858Z
UID:10145-1743667200-1743674400@montgomerycoswcd.com
SUMMARY:SWCD Board Meeting
DESCRIPTION:SWCD staff and supervisors will meet in the USDA Conference Room at 8:00 AM for our monthly board meeting. This meeting is open to the public! \n\n\n\n\n\n\n\n\n\n\nShare this:\n				Email a link to a friend (Opens in new window)\n				Email\n			\n				Print (Opens in new window)\n				Print\n			\n				Share on Facebook (Opens in new window)\n				Facebook\n			\n				Share on X (Opens in new window)\n				X
URL:https://montgomerycoswcd.com/events/board-meeting-7/
LOCATION:USDA Service Center\, 2036 Lebanon Road\, Crawfordsville\, Indiana\, 47933
END:VEVENT
BEGIN:VEVENT
DTSTART;TZID=America/Indiana/Indianapolis:20250322T090000
DTEND;TZID=America/Indiana/Indianapolis:20250322T120000
DTSTAMP:20260423T185148
CREATED:20250319T191105Z
LAST-MODIFIED:20250319T191109Z
UID:10514-1742634000-1742644800@montgomerycoswcd.com
SUMMARY:FOSC Weed Wrangle
DESCRIPTION:Join us for our first Weed Wrangle of the year with Friends of Sugar Creek! Meet at the canoe launch and bring gloves\, closed toed shoes\, and be ready to whack some weeds! \n\n\n\n\n\n\n\n\n\n\nShare this:\n				Email a link to a friend (Opens in new window)\n				Email\n			\n				Print (Opens in new window)\n				Print\n			\n				Share on Facebook (Opens in new window)\n				Facebook\n			\n				Share on X (Opens in new window)\n				X
URL:https://montgomerycoswcd.com/events/fosc-weed-wrangle/
LOCATION:Sugar Creek Canoe Launch Site\, 624 Lafayette Avenue\, CRAWFORDSVLLE\, Indiana\, 47933\, United States
END:VEVENT
BEGIN:VEVENT
DTSTART;TZID=America/Indiana/Indianapolis:20250322T090000
DTEND;TZID=America/Indiana/Indianapolis:20250322T120000
DTSTAMP:20260423T185148
CREATED:20250305T194038Z
LAST-MODIFIED:20250305T212051Z
UID:10476-1742634000-1742644800@montgomerycoswcd.com
SUMMARY:Friends of Sugar Creek Weed Wrangle
DESCRIPTION:The Friends of Sugar Creek will be hosting a Weed Wrangle at the Sugar Creek Canoe Launch (the old Coke Plant) from 9 AM to 11 AM. Come out and learn how to handle invasive plants and make your green spaces a more healthy habitat! \n\n\n\n\n\n\n\n\n\n\nShare this:\n				Email a link to a friend (Opens in new window)\n				Email\n			\n				Print (Opens in new window)\n				Print\n			\n				Share on Facebook (Opens in new window)\n				Facebook\n			\n				Share on X (Opens in new window)\n				X
URL:https://montgomerycoswcd.com/events/friends-of-sugar-creek-weed-wrangle/
LOCATION:Sugar Creek Canoe Launch Site\, 624 Lafayette Avenue\, CRAWFORDSVLLE\, Indiana\, 47933\, United States
END:VEVENT
BEGIN:VEVENT
DTSTART;TZID=America/Indiana/Indianapolis:20250306T080000
DTEND;TZID=America/Indiana/Indianapolis:20250306T100000
DTSTAMP:20260423T185148
CREATED:20241216T163104Z
LAST-MODIFIED:20241216T183832Z
UID:10143-1741248000-1741255200@montgomerycoswcd.com
SUMMARY:SWCD Board Meeting
DESCRIPTION:SWCD staff and supervisors will meet in the USDA Conference Room at 8:00 AM for our monthly board meeting. This meeting is open to the public! \n\n\n\n\n\n\n\n\n\n\nShare this:\n				Email a link to a friend (Opens in new window)\n				Email\n			\n				Print (Opens in new window)\n				Print\n			\n				Share on Facebook (Opens in new window)\n				Facebook\n			\n				Share on X (Opens in new window)\n				X
URL:https://montgomerycoswcd.com/events/board-meeting-6/
LOCATION:USDA Service Center\, 2036 Lebanon Road\, Crawfordsville\, Indiana\, 47933
END:VEVENT
BEGIN:VEVENT
DTSTART;TZID=America/Indiana/Indianapolis:20250226T100000
DTEND;TZID=America/Indiana/Indianapolis:20250226T113000
DTSTAMP:20260423T185148
CREATED:20241231T162029Z
LAST-MODIFIED:20241231T162032Z
UID:10281-1740564000-1740569400@montgomerycoswcd.com
SUMMARY:1st Quarterly CGMC Meeting
DESCRIPTION:Join us for our first Growers meeting of the year! Come learn about soil health and the projects we are working on in the community. \n\n\n\n\n\n\n\n\n\n\nShare this:\n				Email a link to a friend (Opens in new window)\n				Email\n			\n				Print (Opens in new window)\n				Print\n			\n				Share on Facebook (Opens in new window)\n				Facebook\n			\n				Share on X (Opens in new window)\n				X
URL:https://montgomerycoswcd.com/events/1st-quarterly-cgmc-meeting/
LOCATION:USDA Service Center\, 2036 Lebanon Road\, Crawfordsville\, Indiana\, 47933
END:VEVENT
BEGIN:VEVENT
DTSTART;TZID=America/Indiana/Indianapolis:20250218T173000
DTEND;TZID=America/Indiana/Indianapolis:20250218T203000
DTSTAMP:20260423T185148
CREATED:20241216T170216Z
LAST-MODIFIED:20241216T170220Z
UID:10160-1739899800-1739910600@montgomerycoswcd.com
SUMMARY:SWCD Annual Meeting
DESCRIPTION:Please join us for the Montgomery County Soil and Water Conservation District’s annual meeting. On February 18th at 5:30 PM we will have a networking hour\, catered meal\, keynote speaker\, business meeting\, and presentation of our 2024 Conservationist of the Year! \n\n\n\nThis year our keynote speaker will be Lenny Farlee\, speaking on the topic of forestry and invasive species. \n\n\n\nPlease RSVP by calling 765-362-0405 extension 3 or click below. Space is limited\, so make sure to reserve your spot! \n\n\n\nWe hope to see you there! \n\n\n\n\n\n\n\n\n\n\nShare this:\n				Email a link to a friend (Opens in new window)\n				Email\n			\n				Print (Opens in new window)\n				Print\n			\n				Share on Facebook (Opens in new window)\n				Facebook\n			\n				Share on X (Opens in new window)\n				X
URL:https://montgomerycoswcd.com/events/swcd-annual-meeting-2/
LOCATION:HHSB Success Center\, 1623 US-231\, Crawfordsville\, Indiana\, 47933\, United States
END:VEVENT
BEGIN:VEVENT
DTSTART;TZID=America/Indiana/Indianapolis:20250217T080000
DTEND;TZID=America/Indiana/Indianapolis:20250217T170000
DTSTAMP:20260423T185148
CREATED:20241216T162950Z
LAST-MODIFIED:20241216T165743Z
UID:10141-1739779200-1739811600@montgomerycoswcd.com
SUMMARY:Office Closed
DESCRIPTION:The office will be closed for President’s Day. We will reopen at 8:00 AM on Tuesday\, February 18th.  \n\n\n\n\n\n\n\n\n\n\nShare this:\n				Email a link to a friend (Opens in new window)\n				Email\n			\n				Print (Opens in new window)\n				Print\n			\n				Share on Facebook (Opens in new window)\n				Facebook\n			\n				Share on X (Opens in new window)\n				X
URL:https://montgomerycoswcd.com/events/office-closed-33/
LOCATION:Indiana
END:VEVENT
BEGIN:VEVENT
DTSTART;TZID=America/Indiana/Indianapolis:20250206T080000
DTEND;TZID=America/Indiana/Indianapolis:20250206T100000
DTSTAMP:20260423T185148
CREATED:20241216T162737Z
LAST-MODIFIED:20241216T165616Z
UID:10134-1738828800-1738836000@montgomerycoswcd.com
SUMMARY:SWCD Board Meeting
DESCRIPTION:SWCD staff and supervisors will meet in the USDA Conference Room at 8:00 AM for our monthly board meeting. This meeting is open to the public! \n\n\n\n\n\n\n\n\n\n\nShare this:\n				Email a link to a friend (Opens in new window)\n				Email\n			\n				Print (Opens in new window)\n				Print\n			\n				Share on Facebook (Opens in new window)\n				Facebook\n			\n				Share on X (Opens in new window)\n				X
URL:https://montgomerycoswcd.com/events/board-meeting-5/
LOCATION:USDA Service Center\, 2036 Lebanon Road\, Crawfordsville\, Indiana\, 47933
END:VEVENT
BEGIN:VEVENT
DTSTART;TZID=America/Indiana/Indianapolis:20250127T080000
DTEND;TZID=America/Indiana/Indianapolis:20250128T170000
DTSTAMP:20260423T185148
CREATED:20241216T162645Z
LAST-MODIFIED:20241216T165531Z
UID:10132-1737964800-1738083600@montgomerycoswcd.com
SUMMARY:IASWCD Conference
DESCRIPTION:The annual statewide conference organized for Indiana’s 92 Soil and Water Conservation Districts offers a chance for professionals\, researchers\, academics\, industry leaders\, farmers\, and other stakeholders in natural resource protection to come together. \n\n\n\nThe conference includes an exhibit hall and sponsor booths where companies\, organizations\, and vendors present their products\, services\, and initiatives. Networking opportunities\, workshops\, and training sessions are available to promote education and exchange ideas. \n\n\n\n\n\n\n\n\n\n\nShare this:\n				Email a link to a friend (Opens in new window)\n				Email\n			\n				Print (Opens in new window)\n				Print\n			\n				Share on Facebook (Opens in new window)\n				Facebook\n			\n				Share on X (Opens in new window)\n				X
URL:https://montgomerycoswcd.com/events/iaswcd-conference/
LOCATION:Indiana
END:VEVENT
BEGIN:VEVENT
DTSTART;TZID=America/Indiana/Indianapolis:20250123T160000
DTEND;TZID=America/Indiana/Indianapolis:20250123T170000
DTSTAMP:20260423T185148
CREATED:20241231T161842Z
LAST-MODIFIED:20241231T161844Z
UID:10279-1737648000-1737651600@montgomerycoswcd.com
SUMMARY:1st Quarterly CISMA Meeting
DESCRIPTION:Share this:\n				Email a link to a friend (Opens in new window)\n				Email\n			\n				Print (Opens in new window)\n				Print\n			\n				Share on Facebook (Opens in new window)\n				Facebook\n			\n				Share on X (Opens in new window)\n				X
URL:https://montgomerycoswcd.com/events/1st-quarterly-cisma-meeting/
LOCATION:USDA Service Center\, 2036 Lebanon Road\, Crawfordsville\, Indiana\, 47933
END:VEVENT
BEGIN:VEVENT
DTSTART;TZID=America/Indiana/Indianapolis:20250120T080000
DTEND;TZID=America/Indiana/Indianapolis:20250120T170000
DTSTAMP:20260423T185148
CREATED:20241216T162251Z
LAST-MODIFIED:20241216T165404Z
UID:10125-1737360000-1737392400@montgomerycoswcd.com
SUMMARY:Office Closed
DESCRIPTION:The office will be closed for Martin Luther King\, Jr. Day. We will reopen at 8:00 AM on Tuesday\, January 21st. \n\n\n\n\n\n\n\n\n\n\nShare this:\n				Email a link to a friend (Opens in new window)\n				Email\n			\n				Print (Opens in new window)\n				Print\n			\n				Share on Facebook (Opens in new window)\n				Facebook\n			\n				Share on X (Opens in new window)\n				X
URL:https://montgomerycoswcd.com/events/board-meeting-3/
LOCATION:Indiana
END:VEVENT
BEGIN:VEVENT
DTSTART;TZID=America/Indiana/Indianapolis:20250102T080000
DTEND;TZID=America/Indiana/Indianapolis:20250102T100000
DTSTAMP:20260423T185148
CREATED:20241216T162550Z
LAST-MODIFIED:20241216T164903Z
UID:10128-1735804800-1735812000@montgomerycoswcd.com
SUMMARY:SWCD Board Meeting
DESCRIPTION:SWCD staff and supervisors will meet in the USDA Conference Room at 8:00 AM for our monthly board meeting. This meeting is open to the public! \n\n\n\n\n\n\n\n\n\n\nShare this:\n				Email a link to a friend (Opens in new window)\n				Email\n			\n				Print (Opens in new window)\n				Print\n			\n				Share on Facebook (Opens in new window)\n				Facebook\n			\n				Share on X (Opens in new window)\n				X
URL:https://montgomerycoswcd.com/events/board-meeting-4/
LOCATION:USDA Service Center\, 2036 Lebanon Road\, Crawfordsville\, Indiana\, 47933
END:VEVENT
BEGIN:VEVENT
DTSTART;TZID=America/Indiana/Indianapolis:20250101T080000
DTEND;TZID=America/Indiana/Indianapolis:20250101T170000
DTSTAMP:20260423T185148
CREATED:20241216T162003Z
LAST-MODIFIED:20241216T165130Z
UID:10123-1735718400-1735750800@montgomerycoswcd.com
SUMMARY:Office Closed
DESCRIPTION:The office will be closed for New Year’s Day. We will reopen at 8:00 AM on Thursday\, January 2nd. \n\n\n\nHappy New Year! \n\n\n\n\n\n\n\n\n\n\nShare this:\n				Email a link to a friend (Opens in new window)\n				Email\n			\n				Print (Opens in new window)\n				Print\n			\n				Share on Facebook (Opens in new window)\n				Facebook\n			\n				Share on X (Opens in new window)\n				X
URL:https://montgomerycoswcd.com/events/office-closed-32/
LOCATION:Indiana
END:VEVENT
BEGIN:VEVENT
DTSTART;TZID=America/Indiana/Indianapolis:20241224T080000
DTEND;TZID=America/Indiana/Indianapolis:20241226T170000
DTSTAMP:20260423T185148
CREATED:20240116T203120Z
LAST-MODIFIED:20240116T203123Z
UID:9786-1735027200-1735232400@montgomerycoswcd.com
SUMMARY:Office Closed
DESCRIPTION:We will be closed for Christmas from the 24th to 26th. Happy Holidays everyone!  \n\n\n\n\n\n\n\n\n\n\nShare this:\n				Email a link to a friend (Opens in new window)\n				Email\n			\n				Print (Opens in new window)\n				Print\n			\n				Share on Facebook (Opens in new window)\n				Facebook\n			\n				Share on X (Opens in new window)\n				X
URL:https://montgomerycoswcd.com/events/office-closed-31/
LOCATION:Indiana
END:VEVENT
BEGIN:VEVENT
DTSTART;TZID=America/Indiana/Indianapolis:20241205T080000
DTEND;TZID=America/Indiana/Indianapolis:20241205T170000
DTSTAMP:20260423T185148
CREATED:20240116T202946Z
LAST-MODIFIED:20240116T202950Z
UID:9784-1733385600-1733418000@montgomerycoswcd.com
SUMMARY:SWCD Board Meeting
DESCRIPTION:Last Monthly meeting of our SWCD board of the Year! See you all there. \n\n\n\n\n\n\n\n\n\n\nShare this:\n				Email a link to a friend (Opens in new window)\n				Email\n			\n				Print (Opens in new window)\n				Print\n			\n				Share on Facebook (Opens in new window)\n				Facebook\n			\n				Share on X (Opens in new window)\n				X
URL:https://montgomerycoswcd.com/events/swcd-board-meeting-9/
LOCATION:USDA Service Center\, 2036 Lebanon Road\, Crawfordsville\, Indiana\, 47933
END:VEVENT
BEGIN:VEVENT
DTSTART;TZID=America/Indiana/Indianapolis:20241128T080000
DTEND;TZID=America/Indiana/Indianapolis:20241129T170000
DTSTAMP:20260423T185148
CREATED:20240116T202837Z
LAST-MODIFIED:20240116T202841Z
UID:9782-1732780800-1732899600@montgomerycoswcd.com
SUMMARY:Office Closed
DESCRIPTION:The office will be closed Thursday and Friday for Thanksgiving! We will see you all on Monday at 8 am.  \n\n\n\n\n\n\n\n\n\n\nShare this:\n				Email a link to a friend (Opens in new window)\n				Email\n			\n				Print (Opens in new window)\n				Print\n			\n				Share on Facebook (Opens in new window)\n				Facebook\n			\n				Share on X (Opens in new window)\n				X
URL:https://montgomerycoswcd.com/events/office-closed-30/
LOCATION:Indiana
END:VEVENT
BEGIN:VEVENT
DTSTART;TZID=America/Indiana/Indianapolis:20241113T100000
DTEND;TZID=America/Indiana/Indianapolis:20241113T113000
DTSTAMP:20260423T185148
CREATED:20240116T202721Z
LAST-MODIFIED:20240116T202726Z
UID:9780-1731492000-1731497400@montgomerycoswcd.com
SUMMARY:4th Quarterly Community Growers Meeting
DESCRIPTION:Final Quarterly meeting of CGMC. We hope to see you there!  \n\n\n\n\n\n\n\n\n\n\nShare this:\n				Email a link to a friend (Opens in new window)\n				Email\n			\n				Print (Opens in new window)\n				Print\n			\n				Share on Facebook (Opens in new window)\n				Facebook\n			\n				Share on X (Opens in new window)\n				X
URL:https://montgomerycoswcd.com/events/4th-quarterly-community-growers-meeting/
LOCATION:USDA Service Center\, 2036 Lebanon Road\, Crawfordsville\, Indiana\, 47933
END:VEVENT
BEGIN:VEVENT
DTSTART;TZID=America/Indiana/Indianapolis:20241112T090000
DTEND;TZID=America/Indiana/Indianapolis:20241112T150000
DTSTAMP:20260423T185148
CREATED:20240919T133754Z
LAST-MODIFIED:20240919T133757Z
UID:10054-1731402000-1731423600@montgomerycoswcd.com
SUMMARY:Women4TheLand Learning Circle- Soil Health
DESCRIPTION:Join us for a fun day of fellowship and soil health. We will have a morning discussion followed by a free lunch and a tour of conservation practices promoting healthy soil and water quality. RSVPs required by phone 765-362-0405 ext 121\, or email to programs@montgomerycoswcd.com  \n\n\n\n\n\n\n\n\n\n\nShare this:\n				Email a link to a friend (Opens in new window)\n				Email\n			\n				Print (Opens in new window)\n				Print\n			\n				Share on Facebook (Opens in new window)\n				Facebook\n			\n				Share on X (Opens in new window)\n				X
URL:https://montgomerycoswcd.com/events/women4theland-learning-circle-soil-health/
LOCATION:Indiana
END:VEVENT
BEGIN:VEVENT
DTSTART;TZID=America/Indiana/Indianapolis:20241111T080000
DTEND;TZID=America/Indiana/Indianapolis:20241111T170000
DTSTAMP:20260423T185148
CREATED:20240116T202543Z
LAST-MODIFIED:20240116T202550Z
UID:9778-1731312000-1731344400@montgomerycoswcd.com
SUMMARY:Office Closed
DESCRIPTION:The office will be closed today in observance of Veteran’s Day. We will reopen tomorrow at 8 am.  \n\n\n\n\n\n\n\n\n\n\nShare this:\n				Email a link to a friend (Opens in new window)\n				Email\n			\n				Print (Opens in new window)\n				Print\n			\n				Share on Facebook (Opens in new window)\n				Facebook\n			\n				Share on X (Opens in new window)\n				X
URL:https://montgomerycoswcd.com/events/office-closed-29/
LOCATION:Indiana
END:VEVENT
END:VCALENDAR