BEGIN:VCALENDAR
VERSION:2.0
PRODID:-//Montgomery County Soil &amp; Water Conservation District - ECPv6.15.20//NONSGML v1.0//EN
CALSCALE:GREGORIAN
METHOD:PUBLISH
X-WR-CALNAME:Montgomery County Soil &amp; Water Conservation District
X-ORIGINAL-URL:https://montgomerycoswcd.com
X-WR-CALDESC:Events for Montgomery County Soil &amp; Water Conservation District
REFRESH-INTERVAL;VALUE=DURATION:PT1H
X-Robots-Tag:noindex
X-PUBLISHED-TTL:PT1H
BEGIN:VTIMEZONE
TZID:America/Indiana/Indianapolis
BEGIN:DAYLIGHT
TZOFFSETFROM:-0500
TZOFFSETTO:-0400
TZNAME:EDT
DTSTART:20240310T070000
END:DAYLIGHT
BEGIN:STANDARD
TZOFFSETFROM:-0400
TZOFFSETTO:-0500
TZNAME:EST
DTSTART:20241103T060000
END:STANDARD
BEGIN:DAYLIGHT
TZOFFSETFROM:-0500
TZOFFSETTO:-0400
TZNAME:EDT
DTSTART:20250309T070000
END:DAYLIGHT
BEGIN:STANDARD
TZOFFSETFROM:-0400
TZOFFSETTO:-0500
TZNAME:EST
DTSTART:20251102T060000
END:STANDARD
BEGIN:DAYLIGHT
TZOFFSETFROM:-0500
TZOFFSETTO:-0400
TZNAME:EDT
DTSTART:20260308T070000
END:DAYLIGHT
BEGIN:STANDARD
TZOFFSETFROM:-0400
TZOFFSETTO:-0500
TZNAME:EST
DTSTART:20261101T060000
END:STANDARD
END:VTIMEZONE
BEGIN:VEVENT
DTSTART;TZID=America/Indiana/Indianapolis:20250101T080000
DTEND;TZID=America/Indiana/Indianapolis:20250101T170000
DTSTAMP:20260424T093744
CREATED:20241216T162003Z
LAST-MODIFIED:20241216T165130Z
UID:10123-1735718400-1735750800@montgomerycoswcd.com
SUMMARY:Office Closed
DESCRIPTION:The office will be closed for New Year’s Day. We will reopen at 8:00 AM on Thursday\, January 2nd. \n\n\n\nHappy New Year! \n\n\n\n\n\n\n\n\n\n\nShare this:\n				Email a link to a friend (Opens in new window)\n				Email\n			\n				Print (Opens in new window)\n				Print\n			\n				Share on Facebook (Opens in new window)\n				Facebook\n			\n				Share on X (Opens in new window)\n				X
URL:https://montgomerycoswcd.com/events/office-closed-32/
LOCATION:Indiana
END:VEVENT
BEGIN:VEVENT
DTSTART;TZID=America/Indiana/Indianapolis:20250102T080000
DTEND;TZID=America/Indiana/Indianapolis:20250102T100000
DTSTAMP:20260424T093744
CREATED:20241216T162550Z
LAST-MODIFIED:20241216T164903Z
UID:10128-1735804800-1735812000@montgomerycoswcd.com
SUMMARY:SWCD Board Meeting
DESCRIPTION:SWCD staff and supervisors will meet in the USDA Conference Room at 8:00 AM for our monthly board meeting. This meeting is open to the public! \n\n\n\n\n\n\n\n\n\n\nShare this:\n				Email a link to a friend (Opens in new window)\n				Email\n			\n				Print (Opens in new window)\n				Print\n			\n				Share on Facebook (Opens in new window)\n				Facebook\n			\n				Share on X (Opens in new window)\n				X
URL:https://montgomerycoswcd.com/events/board-meeting-4/
LOCATION:USDA Service Center\, 2036 Lebanon Road\, Crawfordsville\, Indiana\, 47933
END:VEVENT
BEGIN:VEVENT
DTSTART;TZID=America/Indiana/Indianapolis:20250120T080000
DTEND;TZID=America/Indiana/Indianapolis:20250120T170000
DTSTAMP:20260424T093744
CREATED:20241216T162251Z
LAST-MODIFIED:20241216T165404Z
UID:10125-1737360000-1737392400@montgomerycoswcd.com
SUMMARY:Office Closed
DESCRIPTION:The office will be closed for Martin Luther King\, Jr. Day. We will reopen at 8:00 AM on Tuesday\, January 21st. \n\n\n\n\n\n\n\n\n\n\nShare this:\n				Email a link to a friend (Opens in new window)\n				Email\n			\n				Print (Opens in new window)\n				Print\n			\n				Share on Facebook (Opens in new window)\n				Facebook\n			\n				Share on X (Opens in new window)\n				X
URL:https://montgomerycoswcd.com/events/board-meeting-3/
LOCATION:Indiana
END:VEVENT
BEGIN:VEVENT
DTSTART;TZID=America/Indiana/Indianapolis:20250123T160000
DTEND;TZID=America/Indiana/Indianapolis:20250123T170000
DTSTAMP:20260424T093744
CREATED:20241231T161842Z
LAST-MODIFIED:20241231T161844Z
UID:10279-1737648000-1737651600@montgomerycoswcd.com
SUMMARY:1st Quarterly CISMA Meeting
DESCRIPTION:Share this:\n				Email a link to a friend (Opens in new window)\n				Email\n			\n				Print (Opens in new window)\n				Print\n			\n				Share on Facebook (Opens in new window)\n				Facebook\n			\n				Share on X (Opens in new window)\n				X
URL:https://montgomerycoswcd.com/events/1st-quarterly-cisma-meeting/
LOCATION:USDA Service Center\, 2036 Lebanon Road\, Crawfordsville\, Indiana\, 47933
END:VEVENT
BEGIN:VEVENT
DTSTART;TZID=America/Indiana/Indianapolis:20250127T080000
DTEND;TZID=America/Indiana/Indianapolis:20250128T170000
DTSTAMP:20260424T093744
CREATED:20241216T162645Z
LAST-MODIFIED:20241216T165531Z
UID:10132-1737964800-1738083600@montgomerycoswcd.com
SUMMARY:IASWCD Conference
DESCRIPTION:The annual statewide conference organized for Indiana’s 92 Soil and Water Conservation Districts offers a chance for professionals\, researchers\, academics\, industry leaders\, farmers\, and other stakeholders in natural resource protection to come together. \n\n\n\nThe conference includes an exhibit hall and sponsor booths where companies\, organizations\, and vendors present their products\, services\, and initiatives. Networking opportunities\, workshops\, and training sessions are available to promote education and exchange ideas. \n\n\n\n\n\n\n\n\n\n\nShare this:\n				Email a link to a friend (Opens in new window)\n				Email\n			\n				Print (Opens in new window)\n				Print\n			\n				Share on Facebook (Opens in new window)\n				Facebook\n			\n				Share on X (Opens in new window)\n				X
URL:https://montgomerycoswcd.com/events/iaswcd-conference/
LOCATION:Indiana
END:VEVENT
END:VCALENDAR