BEGIN:VCALENDAR
VERSION:2.0
PRODID:-//Montgomery County Soil &amp; Water Conservation District - ECPv6.15.20//NONSGML v1.0//EN
CALSCALE:GREGORIAN
METHOD:PUBLISH
X-WR-CALNAME:Montgomery County Soil &amp; Water Conservation District
X-ORIGINAL-URL:https://montgomerycoswcd.com
X-WR-CALDESC:Events for Montgomery County Soil &amp; Water Conservation District
REFRESH-INTERVAL;VALUE=DURATION:PT1H
X-Robots-Tag:noindex
X-PUBLISHED-TTL:PT1H
BEGIN:VTIMEZONE
TZID:America/Indiana/Indianapolis
BEGIN:DAYLIGHT
TZOFFSETFROM:-0500
TZOFFSETTO:-0400
TZNAME:EDT
DTSTART:20240310T070000
END:DAYLIGHT
BEGIN:STANDARD
TZOFFSETFROM:-0400
TZOFFSETTO:-0500
TZNAME:EST
DTSTART:20241103T060000
END:STANDARD
BEGIN:DAYLIGHT
TZOFFSETFROM:-0500
TZOFFSETTO:-0400
TZNAME:EDT
DTSTART:20250309T070000
END:DAYLIGHT
BEGIN:STANDARD
TZOFFSETFROM:-0400
TZOFFSETTO:-0500
TZNAME:EST
DTSTART:20251102T060000
END:STANDARD
BEGIN:DAYLIGHT
TZOFFSETFROM:-0500
TZOFFSETTO:-0400
TZNAME:EDT
DTSTART:20260308T070000
END:DAYLIGHT
BEGIN:STANDARD
TZOFFSETFROM:-0400
TZOFFSETTO:-0500
TZNAME:EST
DTSTART:20261101T060000
END:STANDARD
END:VTIMEZONE
BEGIN:VEVENT
DTSTART;TZID=America/Indiana/Indianapolis:20251105T113000
DTEND;TZID=America/Indiana/Indianapolis:20251105T130000
DTSTAMP:20260423T214625
CREATED:20241231T163058Z
LAST-MODIFIED:20251031T170052Z
UID:10293-1762342200-1762347600@montgomerycoswcd.com
SUMMARY:4th Quarterly CGMC Meeting
DESCRIPTION:Join us for our final CGMC Meeting of the year! Learn how to wrap up your garden and have it ready for next year.  \n\n\n\n\n\n\nShare this:\n				Email a link to a friend (Opens in new window)\n				Email\n			\n				Print (Opens in new window)\n				Print\n			\n				Share on Facebook (Opens in new window)\n				Facebook\n			\n				Share on X (Opens in new window)\n				X
URL:https://montgomerycoswcd.com/events/4th-quarterly-cgmc-meeting/
LOCATION:The Table Spoon\, 116 S Green St\, Crawfordsville\, Indiana\, 47933
END:VEVENT
BEGIN:VEVENT
DTSTART;TZID=America/Indiana/Indianapolis:20251106T080000
DTEND;TZID=America/Indiana/Indianapolis:20251106T100000
DTSTAMP:20260423T214625
CREATED:20241216T185806Z
LAST-MODIFIED:20251029T144840Z
UID:10192-1762416000-1762423200@montgomerycoswcd.com
SUMMARY:SWCD Board Meeting
DESCRIPTION:SWCD staff and supervisors will meet in the PNC Conference Room (2nd floor) of Fusion54 at 8:00 AM for our monthly board meeting. This meeting is open to the public! \n\n\n\n\n\n\n\n\n\n\nShare this:\n				Email a link to a friend (Opens in new window)\n				Email\n			\n				Print (Opens in new window)\n				Print\n			\n				Share on Facebook (Opens in new window)\n				Facebook\n			\n				Share on X (Opens in new window)\n				X
URL:https://montgomerycoswcd.com/events/swcd-board-meeting-18/
LOCATION:Fusion 54\, 101 W. Main St.\, Crawfordsville\, Indiana\, 47933\, United States
END:VEVENT
BEGIN:VEVENT
DTSTART;TZID=America/Indiana/Indianapolis:20251108T100000
DTEND;TZID=America/Indiana/Indianapolis:20251108T120000
DTSTAMP:20260423T214625
CREATED:20251107T191241Z
LAST-MODIFIED:20251107T191246Z
UID:11249-1762596000-1762603200@montgomerycoswcd.com
SUMMARY:Weed Wrangle
DESCRIPTION:Join us for a Weed Wrangle to clear up some bush honeysuckle around the canoe launch! Tools and safety gear are provided. \n\n\n\n\n\n\n\n\n\n\nShare this:\n				Email a link to a friend (Opens in new window)\n				Email\n			\n				Print (Opens in new window)\n				Print\n			\n				Share on Facebook (Opens in new window)\n				Facebook\n			\n				Share on X (Opens in new window)\n				X
URL:https://montgomerycoswcd.com/events/weed-wrangle-3/
LOCATION:Sugar Creek Canoe Launch Site\, 624 Lafayette Avenue\, CRAWFORDSVLLE\, Indiana\, 47933\, United States
END:VEVENT
BEGIN:VEVENT
DTSTART;TZID=America/Indiana/Indianapolis:20251111T080000
DTEND;TZID=America/Indiana/Indianapolis:20251111T170000
DTSTAMP:20260423T214625
CREATED:20241216T190746Z
LAST-MODIFIED:20241216T190750Z
UID:10194-1762848000-1762880400@montgomerycoswcd.com
SUMMARY:Office Closed
DESCRIPTION:The office will be closed for Veteran’s Day. We will reopen at 8:00 AM on Wednesday\, November 12th. \n\n\n\n \n\n\n\nThank you to all who served!  \n\n\n\n\n\n\n\n\n\n\nShare this:\n				Email a link to a friend (Opens in new window)\n				Email\n			\n				Print (Opens in new window)\n				Print\n			\n				Share on Facebook (Opens in new window)\n				Facebook\n			\n				Share on X (Opens in new window)\n				X
URL:https://montgomerycoswcd.com/events/office-closed-40/
LOCATION:Indiana
END:VEVENT
BEGIN:VEVENT
DTSTART;TZID=America/Indiana/Indianapolis:20251118T100000
DTEND;TZID=America/Indiana/Indianapolis:20251118T130000
DTSTAMP:20260423T214625
CREATED:20251023T140831Z
LAST-MODIFIED:20251106T193840Z
UID:11228-1763460000-1763470800@montgomerycoswcd.com
SUMMARY:Table Talk Tuesday
DESCRIPTION:Share this:\n				Email a link to a friend (Opens in new window)\n				Email\n			\n				Print (Opens in new window)\n				Print\n			\n				Share on Facebook (Opens in new window)\n				Facebook\n			\n				Share on X (Opens in new window)\n				X
URL:https://montgomerycoswcd.com/events/table-talk-tuesday-5/
LOCATION:Indiana
END:VEVENT
BEGIN:VEVENT
DTSTART;TZID=America/Indiana/Indianapolis:20251127T080000
DTEND;TZID=America/Indiana/Indianapolis:20251128T170000
DTSTAMP:20260423T214625
CREATED:20241216T190914Z
LAST-MODIFIED:20241216T190917Z
UID:10196-1764230400-1764349200@montgomerycoswcd.com
SUMMARY:Office Closed
DESCRIPTION:The office will be closed for Thanksgiving. We will reopen at 8:00 AM on Monday\, December 1st. \n\n\n\n\n\n\n\n\n\n\nShare this:\n				Email a link to a friend (Opens in new window)\n				Email\n			\n				Print (Opens in new window)\n				Print\n			\n				Share on Facebook (Opens in new window)\n				Facebook\n			\n				Share on X (Opens in new window)\n				X
URL:https://montgomerycoswcd.com/events/office-closed-41/
LOCATION:Indiana
END:VEVENT
END:VCALENDAR